BEGIN:VCALENDAR
VERSION:2.0
PRODID:-//Orchestra Saverio Mercadante - ECPv6.13.2.1//NONSGML v1.0//EN
CALSCALE:GREGORIAN
METHOD:PUBLISH
X-ORIGINAL-URL:https://orchestrasaveriomercadante.it
X-WR-CALDESC:Eventi per Orchestra Saverio Mercadante
REFRESH-INTERVAL;VALUE=DURATION:PT1H
X-Robots-Tag:noindex
X-PUBLISHED-TTL:PT1H
BEGIN:VTIMEZONE
TZID:Europe/Rome
BEGIN:DAYLIGHT
TZOFFSETFROM:+0100
TZOFFSETTO:+0200
TZNAME:CEST
DTSTART:20220327T010000
END:DAYLIGHT
BEGIN:STANDARD
TZOFFSETFROM:+0200
TZOFFSETTO:+0100
TZNAME:CET
DTSTART:20221030T010000
END:STANDARD
END:VTIMEZONE
BEGIN:VEVENT
DTSTART;TZID=Europe/Rome:20220602T233000
DTEND;TZID=Europe/Rome:20220602T233000
DTSTAMP:20260422T001747
CREATED:20250624T092145Z
LAST-MODIFIED:20250624T092145Z
UID:16635-1654212600-1654212600@orchestrasaveriomercadante.it
SUMMARY:SI RIDE A CREPAFAVOLE
DESCRIPTION:SI RIDE A CREPAFAVOLE\ncon FRANCESCO PAOLANTONI\n \n“Pierino e il lupo” è un’opera del compositore russo Sergej Prokofiev\, scritta nel 1936 dopo il suo ritorno nell’Unione Sovietica. È una storia per l’infanzia\, costituita da musica e testo di Prokofiev\, narrata da un attore e accompagnata da un’orchestra.\nPer questo spettacolo l’Orchestra Saverio Mercadante\, diretta dal M° Maurizio Dones\, ha scelto il bravissimo attore Francesco Paolantoni\, il quale anticipa il concerto con un suo monologo\, ovviamente comico\, raccontando e dissacrando alcune famosissime favole: Cappuccetto Rosso (che vuol farsi chiamare Olga) si intreccia con i Sette Nani\, con Biancaneve che fa le bizze e manda in terapia la Strega Cattiva\, mentre i Tre Porcellini sono ben altro rispetto a quel che offre il racconto noto a tutti i bambini. Favole in cui la bella addormentata\, il principe azzurro o lo sfortunato Pollicino\, finiscono per sprofondare in defecazioni o per morire. \n  \nFrancesco Paolantoni – Voce recitante\nOrchestra Saverio Mercadante\nMaurizio Dones – Direttore d’Orchestra \n 
URL:https://orchestrasaveriomercadante.it/evento/si-ride-a-crepafavole/
CATEGORIES:Autunno 2022
ATTACH;FMTTYPE=image/jpeg:https://orchestrasaveriomercadante.it/wp-content/uploads/2025/06/COMPONIMENTI_2022_LIBRETTO-copia_Pagina_04_Immagine_0005.jpg
END:VEVENT
BEGIN:VEVENT
DTSTART;TZID=Europe/Rome:20220526T233000
DTEND;TZID=Europe/Rome:20220526T233000
DTSTAMP:20260422T001747
CREATED:20250624T085724Z
LAST-MODIFIED:20250624T085724Z
UID:16631-1653607800-1653607800@orchestrasaveriomercadante.it
SUMMARY:LA PIANESSA
DESCRIPTION:LA PIANESSA\ncon LUCIA POLI \nUn pianoforte femmina che partorisce pianofortini\, un pianoforte glorioso e ribelle che si getta dalla terrazza\, un pianoforte animato che suona Chopin: La Pianessa è un tributo al genio multiforme e poliedrico del raffinatissimo scrittore\, pittore\, nonché audacissimo compositore Alberto Savinio (Atene\, 1891 – Roma\, 1952). \nLucia Poli narra le vicende tragicomiche dei curiosi personaggi che popolano alcuni racconti intessuti di musica che il grande Artista ha dedicato al pianoforte: La Pianessa\, Vecchio pianoforte\, Pianista bianco. Inoltre dà voce al bellissimo profilo biografico che Savinio fa di Isadora Duncan.\nIl pianista Marco Scolastra alterna le parole poetiche e fantasiose con musica dello stesso Savinio che fu anche folgorante compositore. Completano il programma autori da lui citati nei racconti – Mozart\, Kullak\, Paderewski\, Chopin – ma anche Rossini\, De Crescenzo\, Satie\, Cage\, scelti come raccordo drammaturgico.\nI testi sono di Alberto Savinio con la consulenza del professor Alessandro Tinterri\, maggior esperto dell’opera di Savinio e curatore delle sue opere per Adelphi. \n  \nLucia Poli – Drammaturgia e Regia\nMarco Scolastra – Pianoforte\nAlberto Savinio – Testi \n 
URL:https://orchestrasaveriomercadante.it/evento/la-pianessa/
CATEGORIES:Autunno 2022
ATTACH;FMTTYPE=image/jpeg:https://orchestrasaveriomercadante.it/wp-content/uploads/2025/06/COMPONIMENTI_2022_LIBRETTO-copia_Pagina_07_Immagine_0007.jpg
END:VEVENT
BEGIN:VEVENT
DTSTART;TZID=Europe/Rome:20220519T233000
DTEND;TZID=Europe/Rome:20220519T233000
DTSTAMP:20260422T001747
CREATED:20250624T085040Z
LAST-MODIFIED:20250624T085040Z
UID:16628-1653003000-1653003000@orchestrasaveriomercadante.it
SUMMARY:QUADRETTI DI UNA ESPOSIZIONE
DESCRIPTION:QUADRETTI DI UNA ESPOSIZIONE \ncon VITO PATERNOSTER \nQuadretti di una esposizione. Metà ‘800\, in tutta Europa esplodeva il fenomeno Melodramma: storie e musiche di ampio respiro e forti elaborazioni in complesse storie di drammi o di intrecci buffi o sentimentali\, con un’intensa valenza nazionalistica (nascevano gli Stati Nazione). \nAl lato di questa grande ed importante produzione musicale\, in Italia si sviluppava il fenomeno Canzone\, ossia un elemento fortemente concentrato sulla orecchiabilità\, non legato a storie complesse\, ma a momenti della vita\, a sensazioni fugaci e soprattutto brani brevi da usare al di fuori dei grandi Teatri.\nAnalogamente si sviluppava in Germania il Lied: diremmo la sorella tedesca della canzone italiana\, con qualche caratteristica particolare: era eseguibile nei salotti della nobiltà e della borghesia ed era spesso libera dal vincolo dei cantanti perchè poteva essere eseguita dagli strumenti con l’accompagnamento. George Goltermann\, fu un violoncellista (nonché direttore dell’Opera di Francoforte) che dedicò la sua produzione a questo genere musicale. Piccoli brani\, piccoli pezzi di emozioni\, non legati a storie complesse\, ma a momenti\, ad evocazione di poesie\, di dipinti\, di ricordi.\nVito Paternoster li ha orchestrati\, adattati al linguaggio più moderno\, ed uniti come fossero un brano unico\, come fosse un viaggio tra poesie\, ricordi e pezzi di vita. \n  \nOrchestra Saverio Mercadante\nVito Paternoster – Violoncellista\, Direttore e Arrangiatore \n 
URL:https://orchestrasaveriomercadante.it/evento/quadretti-di-una-esposizione/
CATEGORIES:Autunno 2022
ATTACH;FMTTYPE=image/jpeg:https://orchestrasaveriomercadante.it/wp-content/uploads/2025/06/COMPONIMENTI_2022_LIBRETTO-copia_Pagina_09_Immagine_0007.jpg
END:VEVENT
BEGIN:VEVENT
DTSTART;TZID=Europe/Rome:20220512T233000
DTEND;TZID=Europe/Rome:20220512T233000
DTSTAMP:20260422T001747
CREATED:20250624T084636Z
LAST-MODIFIED:20250624T084636Z
UID:16625-1652398200-1652398200@orchestrasaveriomercadante.it
SUMMARY:MIO FRATELLO RINCORRE I DINOSAURI
DESCRIPTION:MIO FRATELLO RINCORRE I DINOSAURI \ncon CHRISTIAN DI DOMENICO \nMi capita spesso di soffermarmi a guardare persone (uomini\, donne\, bambini) affette da varie malattie oppure diversamente abili\, per cercare di capire il loro approccio alla vita\, dalle azioni semplici\, quotidiane\, all’incontro con gli altri; che tipo di relazioni hanno\, quali passioni o desideri; come vedono se’ stessi\, quale consapevolezza hanno della loro condizione.\nE poi\, all’improvviso\, mi accorgo che tutte queste domande dovrei rivolgerle a me stesso. A quel punto la faccenda si fa interessante e problematica allo stesso tempo. Sono disposto a riconoscere le mie mancanze\, le mie lacune\, le mie disabilità? Quanti amici ho e che relazioni ho con loro? Sono sincere\, vive? Con quale metro di giudizio sono pronto a criticare o semplicemente valutare le vite degli altri? Per quale motivo riesco a vedere solo i loro difetti\, ciò che a loro manca e non i loro pregi\, le loro virtù? \nPoi succede di imbatterti in un video che qualche bullo adolescente ha voluto spedire su internet per vantarsi degli atti di crudeltà nei confronti di qualche malcapitato ragazzino disabile\, handicappato\, con sindrome di Down o semplicemente più debole e incapace di difendersi e ti chiedi: perché? \nOppure di leggere su un giornale che negli ultimi quattro mesi\, nel reparto di neonatologia di un ospedale di Bari\, dove vivo\, sono nati una bambina e un bambino con la sindrome di Down e in entrambi i casi i loro genitori hanno deciso di abbandonarli\, mentre altre persone\, successivamente\, hanno scelto di adottarli. Perché? Ho letto il libro di Giacomo Mazzariol: “Mio fratello rincorre i dinosauri”.\nHo conosciuto lui e la sua splendida famiglia. La loro storia mi ha illuminato e mi è venuta voglia di raccontarla a modo mio. Così ho deciso di cominciare un nuovo cammino che mi aiuti a rieducare il mio sguardo disabile\, affinchè riesca finalmente a vedere tutta la bellezza e l’amore che ogni essere vivente è in grado di ricevere e di dare. Senza pregiudizi e senza aspettative. \nVedere e scegliere di amare \n 
URL:https://orchestrasaveriomercadante.it/evento/mio-fratello-rincorre-i-dinosauri/
CATEGORIES:Autunno 2022
ATTACH;FMTTYPE=image/jpeg:https://orchestrasaveriomercadante.it/wp-content/uploads/2025/06/COMPONIMENTI_2022_LIBRETTO-copia_Pagina_11_Immagine_0007.jpg
END:VEVENT
BEGIN:VEVENT
DTSTART;TZID=Europe/Rome:20220505T233000
DTEND;TZID=Europe/Rome:20220505T233000
DTSTAMP:20260422T001747
CREATED:20250620T153011Z
LAST-MODIFIED:20250620T153011Z
UID:16621-1651793400-1651793400@orchestrasaveriomercadante.it
SUMMARY:IL LAVORO\, NON SOLO UN DIRITTO MA ANCHE UNA LIBERTÀ
DESCRIPTION:IL LAVORO\, NON SOLO UN DIRITTO MA ANCHE UNA LIBERTÀ – con STEFANIA ROCCA \n“L’Italia è una Repubblica democratica fondata sul lavoro”\, recita l’art.1\, elevando lavoro e democrazia a valori fondanti il nuovo modello statuale cristallizzato in Costituzione. “La Repubblica tutela il lavoro in tutte le sue forme e applicazioni”\, ma è l’art.4 della Carta fondamentale a enunciare il principio lavoristico più nel dettaglio. La norma testualmente recita: “La Repubblica riconosce a tutti i cittadini il diritto al lavoro e promuove le condizioni che rendano effettivo questo diritto. Ogni cittadino ha il dovere di svolgere\, secondo le proprie possibilità e la propria scelta\, un’attività o una funzione che concorra al progresso materiale o spirituale della società.”\nL’Orchestra Saverio Mercadante dedica questo concerto a tutti i lavoratori di qualsiasi razza\, colore\, sesso\, lingua\, religione\, etc…raccontando storie di immigrazione\, sofferenza e speranza. \nOrchestra Saverio Mercadante\nRocco Debernardis – Clarinetto\nNadio Marenco – Fisarmonica\nMaurizio Dones – Direttore
URL:https://orchestrasaveriomercadante.it/evento/il-lavoro-non-solo-un-diritto-ma-anche-una-liberta/
CATEGORIES:Autunno 2022
ATTACH;FMTTYPE=image/jpeg:https://orchestrasaveriomercadante.it/wp-content/uploads/2025/06/COMPONIMENTI_2022_LIBRETTO-copia_Pagina_12_Immagine_0007.jpg
END:VEVENT
BEGIN:VEVENT
DTSTART;TZID=Europe/Rome:20220428T233000
DTEND;TZID=Europe/Rome:20220428T233000
DTSTAMP:20260422T001747
CREATED:20250620T152320Z
LAST-MODIFIED:20250620T152355Z
UID:16617-1651188600-1651188600@orchestrasaveriomercadante.it
SUMMARY:LA PUGLIA DEGLI INEDITI: ALLA RISCOPERTA DI MERCADANTE
DESCRIPTION:LA PUGLIA DEGLI INEDITI: ALLA RISCOPERTA DI MERCADANTE con ORCHESTRA OLES di LECCE e del SALENTO \nSaverio Mercadante\, nato ad Altamura il 17 settembre 1795\, apprese dal suo fratellastro Giacinto Mercadante i rudimenti e la passione per la musica. Allievo di Giovanni Furno\, Giacomo Tritto e Nicola Antonio Zingarelli a Napoli esordì come compositore teatrale nel 1819\, a ventiquattro anni\, con L’apoteosi d’Ercole. Si affermò due anni dopo\, nel 1821\, alla Scala di Milano con Elisa e Claudio e\, successivamente\, le sue opere furono rappresentate nei maggiori centri italiani ed europei\, in particolare a Vienna. Nel 1836\, su invito di Rossini\, si recò a Parigi dove\, presso il Théâtre Italien\, fece rappresentare l’opera Ibriganti.\nPer trent’anni\, dal 1840 fino alla morte avvenuta nel 1870\, diresse il conservatorio di Napoli. Tratti caratteristici dello stile operistico di Mercadante\, al quale non fu estraneo l’influsso di Rossini\,\nsono la particolare elaborazione del linguaggio armonico\, l’interessante e nuova tecnica di orchestrazione\, la spiccata evidenza drammatica dei personaggi.\nFu autore molto prolifico\, alla sua produzione appartengono oltre sessanta opere teatrali\, quattro balletti\, sinfonie commemorative dedicate a Bellini\, Donizetti\, Rossini e Pacini\, composizioni per orchestra\, cantate\, inni\, musica sacra e da camera. In questo concerto l’Orchestra Sinfonica di Lecce e del Salento ed il talentuoso clarinettista Fabrizio Meloni (Primo Clarinetto Solista del Teatro Alla Scala) proporranno alcune pagine inedite del compositore altamurano a cura dello studioso e musicista Giuseppe Settembrini mentre al musicologo di fama internazionale Giacomo Fornari. \nOrchestra Sinfonica di Lecce e del Salento – Oles\nFabrizio Meloni – Clarinettista e Direttore\nGiuseppe Settembrino – Studioso Mercadantiano\nGiacomo Fornari – Guida all’ascolto
URL:https://orchestrasaveriomercadante.it/evento/la-puglia-degli-inediti-alla-riscoperta-di-mercadante/
CATEGORIES:Autunno 2022
ATTACH;FMTTYPE=image/jpeg:https://orchestrasaveriomercadante.it/wp-content/uploads/2025/06/COMPONIMENTI_2022_LIBRETTO-copia_Pagina_10_Immagine_0007.jpg
END:VEVENT
BEGIN:VEVENT
DTSTART;TZID=Europe/Rome:20220421T233000
DTEND;TZID=Europe/Rome:20220421T233000
DTSTAMP:20260422T001747
CREATED:20250620T151044Z
LAST-MODIFIED:20250620T151816Z
UID:16610-1650583800-1650583800@orchestrasaveriomercadante.it
SUMMARY:SOLODUO
DESCRIPTION:SOLODUO con ILARIA PILAR PATASSINI & ROBERTO TARENZI \nIlaria Pilar Patassini e Roberto Tarenzi si incontrano casualmente fuori dal palco qualche anno fa. Da subito nasce una grande empatia musicale e viscerale che li porta naturalmente a collaborare nei live del progetto di inediti di Pilar e poi a immaginare un progetto in duo da inserire nei loro rispettivi percorsi e carriere. Nati lo stesso giorno\, apprezzati entrambi per intensità e virtuosismo\, il duo propone un repertorio di canzoni amate all’insegna del crossover e di felici sconfinamenti dove l’asticella del jazz\, spostando le canzoni\, ne rende ancora più universale ogni singola interpretazione. \nIlaria Pilar Patassini – Voce\nRoberto Tarenzi – Pianoforte
URL:https://orchestrasaveriomercadante.it/evento/soloduo/
CATEGORIES:Autunno 2022
ATTACH;FMTTYPE=image/jpeg:https://orchestrasaveriomercadante.it/wp-content/uploads/2025/06/COMPONIMENTI_2022_LIBRETTO-copia_Pagina_08_Immagine_0009.jpg
END:VEVENT
BEGIN:VEVENT
DTSTART;TZID=Europe/Rome:20220331T233000
DTEND;TZID=Europe/Rome:20220331T233000
DTSTAMP:20260422T001747
CREATED:20250620T145952Z
LAST-MODIFIED:20250620T151113Z
UID:16603-1648769400-1648769400@orchestrasaveriomercadante.it
SUMMARY:EL TANGO: MITOLOGIA DI MUSICA E PAROLA
DESCRIPTION:EL TANGO: MITOLOGIA DI MUSICA E PAROLA \nSi dice tango e il pensiero va subito ad Astor Piazzolla\, che ne è l’indiscusso re. La sua Libertango è ormai da tempo uno standard\, riproposta in tutte le salse (pop\, jazz\, sinfonica e via dicendo). Il duo Sonos\, composto dai fratelli Nicola e Antonio Ippolito\, ripropone con cura e rispetto il repertorio del compositore argentino\, ponendosi come “valorizzatore” di questo incredibile patrimonio musicale. A immergere ancor di più il pubblico nella sensuale atmosfera\, sarà l’attore Sergio Múñiz con la sua splendida voce e la sua chitarra per raccontare una storia d’amore\, di sofferenza e di speranza. \n  \nNicola Ippolito – Piano\nAntonio Ippolito – Bandoneon\nSergio Múñiz – Voce recitante
URL:https://orchestrasaveriomercadante.it/evento/el-tango-mitologia-di-musica-e-parola/
CATEGORIES:Autunno 2022
ATTACH;FMTTYPE=image/jpeg:https://orchestrasaveriomercadante.it/wp-content/uploads/2025/06/COMPONIMENTI_2022_LIBRETTO-copia_Pagina_06_Immagine_0006.jpg
END:VEVENT
END:VCALENDAR