BEGIN:VCALENDAR
VERSION:2.0
PRODID:-//Orchestra Saverio Mercadante - ECPv6.13.2.1//NONSGML v1.0//EN
CALSCALE:GREGORIAN
METHOD:PUBLISH
X-WR-CALNAME:Orchestra Saverio Mercadante
X-ORIGINAL-URL:https://orchestrasaveriomercadante.it
X-WR-CALDESC:Eventi per Orchestra Saverio Mercadante
REFRESH-INTERVAL;VALUE=DURATION:PT1H
X-Robots-Tag:noindex
X-PUBLISHED-TTL:PT1H
BEGIN:VTIMEZONE
TZID:Europe/Rome
BEGIN:DAYLIGHT
TZOFFSETFROM:+0100
TZOFFSETTO:+0200
TZNAME:CEST
DTSTART:20240331T010000
END:DAYLIGHT
BEGIN:STANDARD
TZOFFSETFROM:+0200
TZOFFSETTO:+0100
TZNAME:CET
DTSTART:20241027T010000
END:STANDARD
END:VTIMEZONE
BEGIN:VEVENT
DTSTART;TZID=Europe/Rome:20241104T220000
DTEND;TZID=Europe/Rome:20241104T220000
DTSTAMP:20260422T232012
CREATED:20250610T092918Z
LAST-MODIFIED:20250610T093253Z
UID:16352-1730757600-1730757600@orchestrasaveriomercadante.it
SUMMARY:Age Pride
DESCRIPTION:AGE PRIDE di Lidia RAVERA  \nPer assolvere la vecchiaia serve un’ arringa. In quest’epoca di giovinezza a tutti i costi e di performance esibite urbi et orbi\, ci vuole un avvocato abile per difendere quella che passa per terza età\, e lo è davvero\, ma che comunque può essere una stagione bella come le altre. Ci pensa Alessandra Faiella\, milanese doc\, una vita in teatro eppure volto noto al mainstream televisivo grazie a programmi come Pippo Chennedy Show\, Zelig e Colorado\, classe 1962 e dunque non ancora classificabile come “nababba” ma dotata di ottime dosi di ironia per guardare a quell’età con voce in capitolo: lo fa nello spettacolo Age Pride. \n  \nAlessandra FAIELLA – Attrice\nChiara PIAZZA  –  Violoncello\nEmanuela GIORDANO – Regia\nGiovanna FAMULARI – musiche\nCinzia LEONE – immagini \n  \n 
URL:https://orchestrasaveriomercadante.it/evento/age-pride/
CATEGORIES:Autunno 2024,Festival
ATTACH;FMTTYPE=image/jpeg:https://orchestrasaveriomercadante.it/wp-content/uploads/2025/06/5.jpg
END:VEVENT
BEGIN:VEVENT
DTSTART;TZID=Europe/Rome:20241112T220000
DTEND;TZID=Europe/Rome:20241112T220000
DTSTAMP:20260422T232012
CREATED:20250610T093336Z
LAST-MODIFIED:20250610T093725Z
UID:16355-1731448800-1731448800@orchestrasaveriomercadante.it
SUMMARY:4/3/1943 Lucio Dalla
DESCRIPTION:  \n4/3/1943… LUCIO DALLA! \nViaggio di musica e parole nella storia di uno dei più grandi cantautori italiani. L’apporto che Lucio Dalla ha saputo dare alla canzone italiana\, in anni in cui il nostro paese si riscopriva e affrontava periodi alquanto delicati\, è stato davvero eccezionale. La sua produzione ha impresso una svolta decisiva al pop italiano. \nDa un punto di vista strettamente musicale\, Lucio Dalla ha personalizzato e innovato in ogni senso la forma della canzone tradizionale e melodica\, arrivando a vendere oltre 50 milioni di dischi. \nGrazie ai suoi testi\, Dalla ha rilanciato temi ritenuti esauriti o difficilmente rinnovabili\, quali il coinvolgimento sentimentale e i piccoli avvenimenti della vita quotidiana. Ha saputo esplorare anche argomenti del tutto nuovi e inusuali\, a volte controversi. Cesare Bocci ci racconta questa storia affiancato dalle raffinate citazioni musicali del Duo Debernardis – Binetti. \nCesare Bocci – voce recitante\nFederica Debernardis – testi\nDuo Saverio Mercadante
URL:https://orchestrasaveriomercadante.it/evento/4-3-1943-lucio-dalla/
CATEGORIES:Autunno 2024,Festival
ATTACH;FMTTYPE=image/jpeg:https://orchestrasaveriomercadante.it/wp-content/uploads/2025/06/Cesare-BOCCI-attore.jpg
END:VEVENT
END:VCALENDAR