BEGIN:VCALENDAR
VERSION:2.0
PRODID:-//Orchestra Saverio Mercadante - ECPv6.13.2.1//NONSGML v1.0//EN
CALSCALE:GREGORIAN
METHOD:PUBLISH
X-ORIGINAL-URL:https://orchestrasaveriomercadante.it
X-WR-CALDESC:Eventi per Orchestra Saverio Mercadante
REFRESH-INTERVAL;VALUE=DURATION:PT1H
X-Robots-Tag:noindex
X-PUBLISHED-TTL:PT1H
BEGIN:VTIMEZONE
TZID:Europe/Rome
BEGIN:DAYLIGHT
TZOFFSETFROM:+0100
TZOFFSETTO:+0200
TZNAME:CEST
DTSTART:20240331T010000
END:DAYLIGHT
BEGIN:STANDARD
TZOFFSETFROM:+0200
TZOFFSETTO:+0100
TZNAME:CET
DTSTART:20241027T010000
END:STANDARD
END:VTIMEZONE
BEGIN:VEVENT
DTSTART;TZID=Europe/Rome:20241018T230000
DTEND;TZID=Europe/Rome:20241018T230000
DTSTAMP:20260423T021739
CREATED:20250609T143056Z
LAST-MODIFIED:20250609T174706Z
UID:16259-1729292400-1729292400@orchestrasaveriomercadante.it
SUMMARY:Serenata Per La Cucina Italiana
DESCRIPTION:La gastronomia è un’esperienza dei  sensi\, un momento che regala soddisfazioni e appagamento e ci avvicina\, per quanto possibile\, alla felicità. La grande bellezza dell’Italia non è soltanto quella dei monumenti e delle nostre opere d’arte\, ma anche delle specialità regionali che allietano la nostra tavola dall’Unità nazionale del 1861 a oggi. \n“Serenata per la cucina italiana” è il titolo del viaggio gastronomico raccontato in musica in 12 brani composti dal compositore lucano Damiano D’Ambrosio con l’Orchestra Saverio Mercadante di Altamura diretta dal Maestro Maurizio Dones. \n  \n 
URL:https://orchestrasaveriomercadante.it/evento/serenata-per-la-cucina-italiana/
CATEGORIES:Autunno 2024,Festival
ATTACH;FMTTYPE=image/jpeg:https://orchestrasaveriomercadante.it/wp-content/uploads/2024/10/img20250603_11085813.jpg
END:VEVENT
END:VCALENDAR