BEGIN:VCALENDAR
VERSION:2.0
PRODID:-//Orchestra Saverio Mercadante - ECPv6.13.2.1//NONSGML v1.0//EN
CALSCALE:GREGORIAN
METHOD:PUBLISH
X-ORIGINAL-URL:https://orchestrasaveriomercadante.it
X-WR-CALDESC:Eventi per Orchestra Saverio Mercadante
REFRESH-INTERVAL;VALUE=DURATION:PT1H
X-Robots-Tag:noindex
X-PUBLISHED-TTL:PT1H
BEGIN:VTIMEZONE
TZID:Europe/Rome
BEGIN:DAYLIGHT
TZOFFSETFROM:+0100
TZOFFSETTO:+0200
TZNAME:CEST
DTSTART:20240331T010000
END:DAYLIGHT
BEGIN:STANDARD
TZOFFSETFROM:+0200
TZOFFSETTO:+0100
TZNAME:CET
DTSTART:20241027T010000
END:STANDARD
END:VTIMEZONE
BEGIN:VEVENT
DTSTART;TZID=Europe/Rome:20241021T230000
DTEND;TZID=Europe/Rome:20241021T230000
DTSTAMP:20260423T020954
CREATED:20250609T173649Z
LAST-MODIFIED:20250609T174854Z
UID:16295-1729551600-1729551600@orchestrasaveriomercadante.it
SUMMARY:Vi Racconto Madame Curie
DESCRIPTION:VI RACCONTO MADAME CURIE \nLA GRANDE SCIENZIATA E LA FIGLIA PIANISTA \n“C’erano cinque premi Nobel nella mia famiglia. Due per mia madre\, uno per mio padre\, uno per mia sorella e mio cognato e uno per mio marito.” In casa Curie si vissero due vicende parallele e straordinarie: quella di Marie e Irène Curie nel mondo della chimica e della fisica e quella di Ève Curie\, la figlia “strana”: concertista\, politica e scrittrice\, che scelse la strada dell’arte e della musica\, e che fu anche appassionata biografa di famiglia. \nNel nostro racconto Gaia de Laurentiis sarà la “narratrice” Ève Curie (ma anche sua madre Madame Curie) suggerendo ed evocando le suggestioni musicali che Ève incontrò in oltre un secolo di vita (attraversando tutto il ‘900 e viaggiando in tutto il mondo)\, che prenderanno vita grazie al tocco pianistico di Laura Manzini. A Riccardo Bàrbera il compito di dar vita ai personaggi maschili\, mariti\, colleghi e amanti di queste donne straordinarie. Il testo è il tratto dalla commedia “Le formidabili Curie”.
URL:https://orchestrasaveriomercadante.it/evento/vi-racconto-madame-curie/
CATEGORIES:Autunno 2024,Festival
ATTACH;FMTTYPE=image/jpeg:https://orchestrasaveriomercadante.it/wp-content/uploads/2025/06/2-1.jpg
END:VEVENT
END:VCALENDAR