BEGIN:VCALENDAR
VERSION:2.0
PRODID:-//Orchestra Saverio Mercadante - ECPv6.13.2.1//NONSGML v1.0//EN
CALSCALE:GREGORIAN
METHOD:PUBLISH
X-WR-CALNAME:Orchestra Saverio Mercadante
X-ORIGINAL-URL:https://orchestrasaveriomercadante.it
X-WR-CALDESC:Eventi per Orchestra Saverio Mercadante
REFRESH-INTERVAL;VALUE=DURATION:PT1H
X-Robots-Tag:noindex
X-PUBLISHED-TTL:PT1H
BEGIN:VTIMEZONE
TZID:Europe/Rome
BEGIN:DAYLIGHT
TZOFFSETFROM:+0100
TZOFFSETTO:+0200
TZNAME:CEST
DTSTART:20240331T010000
END:DAYLIGHT
BEGIN:STANDARD
TZOFFSETFROM:+0200
TZOFFSETTO:+0100
TZNAME:CET
DTSTART:20241027T010000
END:STANDARD
END:VTIMEZONE
BEGIN:VEVENT
DTSTART;TZID=Europe/Rome:20241206T220000
DTEND;TZID=Europe/Rome:20241206T220000
DTSTAMP:20260422T235044
CREATED:20250610T123913Z
LAST-MODIFIED:20250610T123941Z
UID:16366-1733522400-1733522400@orchestrasaveriomercadante.it
SUMMARY:Volevo Fare il Jazz
DESCRIPTION:VOLEVO FARE IL JAZZ \n“Volevo fare il jazz” è uno spettacolo di musica-teatro caratterizzato dalla narrazione brillante di Dino Paradiso che racconta il suo sogno maturato crescendo a Bernalda\, piccolo Comune della Provincia di Matera\, di diventare cantante jazz. \nQuale legame ci sia tra la musica di New Orleans e l’abitare in una cittadina del sud Italia? La gente che vive in entrambi i territori! Se a New Orleans nasce il jazz come esigenza di esorcizzare la durezza della vita dei neri nelle piantagioni\, il jazz è per Dino un modo di realizzare il suo sogno di esorcizzare il pessimismo comune tipico del sud\, del “qui non si può fare”. \nScopriremo il tutto attraverso i racconti\, le gag e i ricordi del nostro protagonista\, accompagnato da un quartetto musicale jazz. La storia ci dirà se Dino ha realizzato il suo sogno. \nDino Paradiso\nDixieland Quartet
URL:https://orchestrasaveriomercadante.it/evento/volevo-fare-il-jazz/
CATEGORIES:Autunno 2024,Festival
ATTACH;FMTTYPE=image/jpeg:https://orchestrasaveriomercadante.it/wp-content/uploads/2025/06/8.jpg
END:VEVENT
END:VCALENDAR