BEGIN:VCALENDAR
VERSION:2.0
PRODID:-//Orchestra Saverio Mercadante - ECPv6.13.2.1//NONSGML v1.0//EN
CALSCALE:GREGORIAN
METHOD:PUBLISH
X-ORIGINAL-URL:https://orchestrasaveriomercadante.it
X-WR-CALDESC:Eventi per Orchestra Saverio Mercadante
REFRESH-INTERVAL;VALUE=DURATION:PT1H
X-Robots-Tag:noindex
X-PUBLISHED-TTL:PT1H
BEGIN:VTIMEZONE
TZID:Europe/Rome
BEGIN:DAYLIGHT
TZOFFSETFROM:+0100
TZOFFSETTO:+0200
TZNAME:CEST
DTSTART:20250330T010000
END:DAYLIGHT
BEGIN:STANDARD
TZOFFSETFROM:+0200
TZOFFSETTO:+0100
TZNAME:CET
DTSTART:20251026T010000
END:STANDARD
END:VTIMEZONE
BEGIN:VEVENT
DTSTART;TZID=Europe/Rome:20251102T080000
DTEND;TZID=Europe/Rome:20251102T170000
DTSTAMP:20260420T105642
CREATED:20251101T234445Z
LAST-MODIFIED:20251101T234445Z
UID:17368-1762070400-1762102800@orchestrasaveriomercadante.it
SUMMARY:I SOLISTI E L'ORCHESTRA
DESCRIPTION:ROBERTO CORLIANO’- pianoforte \nFABRIZIO SIGNORILE-violino \nGIANFRANCO PINTO- clarinetto \nMAURIZIO DONES-direttore \nORCHESTRA SAVERIO MERCADANTE-
URL:https://orchestrasaveriomercadante.it/evento/i-solisti-e-lorchestra/
LOCATION:TEATRO MANGIATORDI\, ALTAMURA
CATEGORIES:Autunno 2025,Eventi,Festival
ATTACH;FMTTYPE=image/jpeg:https://orchestrasaveriomercadante.it/wp-content/uploads/2025/11/i-solisti.jpg
END:VEVENT
BEGIN:VEVENT
DTSTART;VALUE=DATE:20251106
DTEND;VALUE=DATE:20251107
DTSTAMP:20260420T105642
CREATED:20251028T222059Z
LAST-MODIFIED:20251109T084531Z
UID:17313-1762387200-1762473599@orchestrasaveriomercadante.it
SUMMARY:CONCERTO D'AMORE
DESCRIPTION:FABIO TESTI- voce recitante \nSTEFANO MAFFIZZONI-flauto \nANDREA CANDELI-chitarra \nIdeato e diretto da Fabio Testi e Stefano Maffizzoni\, è un itinerario poetico-musicale attraverso i brani e le composizioni poetiche di Federico Garcia Lorca\, Alda Merini\, Pablo Neruda\, Jacques Prevert\, Aleixandre Vicente. La voce calda e suadente del celebre attore Fabio Testi intervallata da brani intensi musicali da due artisti d’eccezione come Stefano Maffizzoni e Andrea Candeli\, accompagneranno lo spettatore in un viaggio sentimentale sull’Amore\, alla scoperta delle più belle poesie fuoriuscite dalla penna dei poeti più sensibili e famosi del 900’.
URL:https://orchestrasaveriomercadante.it/evento/concerto-damore/
LOCATION:TEATRO MANGIATORDI\, ALTAMURA
CATEGORIES:Autunno 2025,Eventi,Festival
END:VEVENT
BEGIN:VEVENT
DTSTART;VALUE=DATE:20251113
DTEND;VALUE=DATE:20251114
DTSTAMP:20260420T105642
CREATED:20251028T233701Z
LAST-MODIFIED:20251111T182728Z
UID:17323-1762992000-1763078399@orchestrasaveriomercadante.it
SUMMARY:GIOVANNI BAGLIONI IN ROOTS
DESCRIPTION:Giovanni Baglioni propone uno spettacolo nel quale è unico protagonista sulla scena. \nCon un virtuoso utilizzo della chitarra acustica e avvalendosi di tecniche raffinate e di grande impatto sia sonoro che visivo propone il suo repertorio originale e attinge altresì talvolta a quello di grandi esponenti internazionali della chitarra acustica solista che hanno influenzato e ispirato il suo percorso. \nAmante del linguaggio parlato\, recupera la parola alla quale ha rinunciato da musicista strumentale introducendo le proprie composizioni in maniera coinvolgente e immaginifica da vero cantastorie; \nracconti e descrizioni capaci di dare un taglio intellettuale inaspettato e portante di tutto l’insieme.
URL:https://orchestrasaveriomercadante.it/evento/giovanni-baglioni-in-roots/
LOCATION:TEATRO MANGIATORDI\, ALTAMURA
CATEGORIES:Autunno 2025,Eventi,Festival
ATTACH;FMTTYPE=image/jpeg:https://orchestrasaveriomercadante.it/wp-content/uploads/2025/10/13-NOVEMBRE-FESTIVAL.jpg
END:VEVENT
BEGIN:VEVENT
DTSTART;VALUE=DATE:20251118
DTEND;VALUE=DATE:20251119
DTSTAMP:20260420T105642
CREATED:20251030T000537Z
LAST-MODIFIED:20251118T005328Z
UID:17328-1763424000-1763510399@orchestrasaveriomercadante.it
SUMMARY:RADICE DI 2
DESCRIPTION:MANU LATINI- ATTORE \nOMBRETTA CIUCANI- ATTRICE \ndi Adriano Bennicelli \nProduzione Progetto Musical \n 
URL:https://orchestrasaveriomercadante.it/evento/radice-di-2/
LOCATION:TEATRO MANGIATORDI\, ALTAMURA
CATEGORIES:Autunno 2025,Festival
ATTACH;FMTTYPE=image/jpeg:https://orchestrasaveriomercadante.it/wp-content/uploads/2025/10/radice-di-2-image-scaled.jpg
END:VEVENT
BEGIN:VEVENT
DTSTART;VALUE=DATE:20251120
DTEND;VALUE=DATE:20251121
DTSTAMP:20260420T105642
CREATED:20251030T203641Z
LAST-MODIFIED:20251118T005843Z
UID:17338-1763596800-1763683199@orchestrasaveriomercadante.it
SUMMARY:IO ADORO LA SINTESI...SAR0' BRE...
DESCRIPTION:MAURIZIO SANTILLI- attore
URL:https://orchestrasaveriomercadante.it/evento/io-adoro-la-sintesi-sar0-bre/
LOCATION:TEATRO MANGIATORDI\, ALTAMURA
CATEGORIES:Autunno 2025,Eventi,Festival
ATTACH;FMTTYPE=image/jpeg:https://orchestrasaveriomercadante.it/wp-content/uploads/2025/10/20-novembre-componimenti-1-scaled.jpg
END:VEVENT
BEGIN:VEVENT
DTSTART;TZID=Europe/Rome:20251125T080000
DTEND;TZID=Europe/Rome:20251125T170000
DTSTAMP:20260420T105642
CREATED:20251030T211456Z
LAST-MODIFIED:20251124T213810Z
UID:17344-1764057600-1764090000@orchestrasaveriomercadante.it
SUMMARY:LA BANDA GRANDE
DESCRIPTION:  \nLA BANDA GRANDE \nIl progetto vuole documentare e mettere a confronto alcuni capolavori del repertorio bandistico italiano tra ‘800 e primo ‘900. La particolarità del progetto prevede lo studio di composizioni originali per banda rispettando fedelmente l’organico previsto dall’autore attraverso l’utilizzo di tutti gli strumenti\, anche quelli in disuso. Obiettivo del progetto è quello di cristallizzare il suono tipico dell’epoca che\, con l’evoluzione degli organici e della costruzione degli strumenti\, ha avuto una inevitabile trasformazione. \n 
URL:https://orchestrasaveriomercadante.it/evento/la-banda-grande/
LOCATION:TEATRO MANGIATORDI\, ALTAMURA
CATEGORIES:Autunno 2025,Eventi,Festival
ATTACH;FMTTYPE=image/jpeg:https://orchestrasaveriomercadante.it/wp-content/uploads/2025/10/WhatsApp-Image-2025-11-24-at-08.51.41.jpeg
END:VEVENT
END:VCALENDAR