BEGIN:VCALENDAR
VERSION:2.0
PRODID:-//Orchestra Saverio Mercadante - ECPv6.13.2.1//NONSGML v1.0//EN
CALSCALE:GREGORIAN
METHOD:PUBLISH
X-WR-CALNAME:Orchestra Saverio Mercadante
X-ORIGINAL-URL:https://orchestrasaveriomercadante.it
X-WR-CALDESC:Eventi per Orchestra Saverio Mercadante
REFRESH-INTERVAL;VALUE=DURATION:PT1H
X-Robots-Tag:noindex
X-PUBLISHED-TTL:PT1H
BEGIN:VTIMEZONE
TZID:Europe/Rome
BEGIN:DAYLIGHT
TZOFFSETFROM:+0100
TZOFFSETTO:+0200
TZNAME:CEST
DTSTART:20250330T010000
END:DAYLIGHT
BEGIN:STANDARD
TZOFFSETFROM:+0200
TZOFFSETTO:+0100
TZNAME:CET
DTSTART:20251026T010000
END:STANDARD
END:VTIMEZONE
BEGIN:VEVENT
DTSTART;TZID=Europe/Rome:20251204T000000
DTEND;TZID=Europe/Rome:20251204T235900
DTSTAMP:20260422T093020
CREATED:20251114T211118Z
LAST-MODIFIED:20251114T211118Z
UID:17375-1764806400-1764892740@orchestrasaveriomercadante.it
SUMMARY:SELMAH IN BRASILIAN MUSIC CONCERT
DESCRIPTION:GIUSEPPE MILICI-special guest armonica \nLUIGI RANA-direzione musicale \nSESTETTO UNISONO \n 
URL:https://orchestrasaveriomercadante.it/evento/selmah-in-brasilian-music-concert-2/
LOCATION:TEATRO MANGIATORDI\, ALTAMURA
CATEGORIES:Autunno 2025,Eventi,Festival
ATTACH;FMTTYPE=image/jpeg:https://orchestrasaveriomercadante.it/wp-content/uploads/2025/11/selma-hern.jpg
END:VEVENT
BEGIN:VEVENT
DTSTART;VALUE=DATE:20251204
DTEND;VALUE=DATE:20251205
DTSTAMP:20260422T093020
CREATED:20251101T233604Z
LAST-MODIFIED:20251109T084116Z
UID:17365-1764806400-1764892799@orchestrasaveriomercadante.it
SUMMARY:SELMAH IN BRASILIAN MUSIC CONCERT
DESCRIPTION:L’incontro tra la voce intensa di Selmah e l’armonica poetica di Giuseppe Milici accende un dialogo unico tra Brasile e jazz europeo. Sul palco due artisti raffinati e potenti danno un’impronta nuova ed emozionante al repertorio: la forza interpretativa di Selmah si fonde con il gusto e la tecnica di Milici per un viaggio sonoro che attraversa brani originali dell’artista e riletture della tradizione brasiliana\, tra poesia\, \nritmo e improvvisazione. Selma Hernandes è tra le interpreti brasiliane più apprezzate in Italia. \nLa sua tavolozza sonora fonde lirismo e improvvisazione. \nLa direzione musicale e artistica è affidata al pluripremiato produttore Luigi Rana con un ensemble di musicisti d’eccellenza a sostegno dell’armonia. \nIl risultato è un concerto che restituisce la purezza della musica alla sua fonte: un’esperienza immersiva\, elegante e comunicativa\, capace di trasformare ogni brano in un racconto emotivo e di coinvolgere platee \ntrasversali e contesti di prestigio\, dai teatri ai festival\, dagli auditorium ai cartelloni culturali di respiro internazionale.
URL:https://orchestrasaveriomercadante.it/evento/selmah-in-brasilian-music-concert/
LOCATION:TEATRO MANGIATORDI\, ALTAMURA
CATEGORIES:Autunno 2025,Eventi,Festival
ATTACH;FMTTYPE=image/jpeg:https://orchestrasaveriomercadante.it/wp-content/uploads/2025/11/selma-hern.jpg
END:VEVENT
BEGIN:VEVENT
DTSTART;TZID=Europe/Rome:20251204T210000
DTEND;TZID=Europe/Rome:20251204T230000
DTSTAMP:20260422T093020
CREATED:20251114T211216Z
LAST-MODIFIED:20251124T214043Z
UID:17376-1764882000-1764889200@orchestrasaveriomercadante.it
SUMMARY:SELMAH IN BRASILIAN MUSIC CONCERT
DESCRIPTION:L’incontro tra la voce intensa di Selmah e l’armonica poetica di Giuseppe Milici accende un dialogo unico tra Brasile e jazz europeo. Sul palco due artisti raffinati e potenti danno un’impronta nuova ed emozionante al repertorio: la forza interpretativa di Selmah si fonde con il gusto e la tecnica di Milici per un viaggio sonoro che attraversa brani originali dell’artista e riletture della tradizione brasiliana\, tra poesia\, \nritmo e improvvisazione. Selma Hernandes è tra le interpreti brasiliane più apprezzate in Italia. \nLa sua tavolozza sonora fonde lirismo e improvvisazione. \nLa direzione musicale e artistica è affidata al pluripremiato produttore Luigi Rana con un ensemble di musicisti d’eccellenza a sostegno dell’armonia. \nIl risultato è un concerto che restituisce la purezza della musica alla sua fonte: un’esperienza immersiva\, elegante e comunicativa\, capace di trasformare ogni brano in un racconto emotivo e di coinvolgere platee \ntrasversali e contesti di prestigio\, dai teatri ai festival\, dagli auditorium ai cartelloni culturali di respiro internazionale.
URL:https://orchestrasaveriomercadante.it/evento/selmah-in-brasilian-music-concert-3/
LOCATION:TEATRO MANGIATORDI\, ALTAMURA
CATEGORIES:Autunno 2025,Eventi,Festival
ATTACH;FMTTYPE=image/jpeg:https://orchestrasaveriomercadante.it/wp-content/uploads/2025/11/WhatsApp-Image-2025-11-24-at-20.49.35.jpeg
END:VEVENT
BEGIN:VEVENT
DTSTART;TZID=Europe/Rome:20251216T210000
DTEND;TZID=Europe/Rome:20251216T230000
DTSTAMP:20260422T093020
CREATED:20251102T083111Z
LAST-MODIFIED:20251215T002355Z
UID:17381-1765918800-1765926000@orchestrasaveriomercadante.it
SUMMARY:I SOLISTI E L'ORCHESTRA
DESCRIPTION:  \n \nL’Orchestra Saverio Mercadante\, diretta dal M° Maurizio Dones\, accompagnerà 3 solisti di fama internazionale: Gianfranco Pinto al clarinetto nell’esecuzione del virtuoso Concertino di A. Grgin\, Fabrizio Signorile al violino nell’esecuzione delle Danze Popolari Rumene di B. Bartók e Roberto Corlianò al pianoforte nell’esecuzione dell’ultimo Concerto di L. Van Beethoven per pianoforte e orchestra in Mi bemolle maggiore op. 73. Solisti virtuosi e stravaganti\, in un repertorio brillante e divertente\, che mette in risalto le doti tecniche e musicali degli stessi.
URL:https://orchestrasaveriomercadante.it/evento/i-solisti-e-lorchestra-2/
LOCATION:TEATRO MANGIATORDI\, ALTAMURA
CATEGORIES:Autunno 2025,Festival
ATTACH;FMTTYPE=image/jpeg:https://orchestrasaveriomercadante.it/wp-content/uploads/2025/11/WhatsApp-Image-2025-12-10-at-18.37.56.jpeg
END:VEVENT
END:VCALENDAR