BEGIN:VCALENDAR
VERSION:2.0
PRODID:-//Orchestra Saverio Mercadante - ECPv6.13.2.1//NONSGML v1.0//EN
CALSCALE:GREGORIAN
METHOD:PUBLISH
X-WR-CALNAME:Orchestra Saverio Mercadante
X-ORIGINAL-URL:https://orchestrasaveriomercadante.it
X-WR-CALDESC:Eventi per Orchestra Saverio Mercadante
REFRESH-INTERVAL;VALUE=DURATION:PT1H
X-Robots-Tag:noindex
X-PUBLISHED-TTL:PT1H
BEGIN:VTIMEZONE
TZID:Europe/Rome
BEGIN:DAYLIGHT
TZOFFSETFROM:+0100
TZOFFSETTO:+0200
TZNAME:CEST
DTSTART:20250330T010000
END:DAYLIGHT
BEGIN:STANDARD
TZOFFSETFROM:+0200
TZOFFSETTO:+0100
TZNAME:CET
DTSTART:20251026T010000
END:STANDARD
END:VTIMEZONE
BEGIN:VEVENT
DTSTART;VALUE=DATE:20251106
DTEND;VALUE=DATE:20251107
DTSTAMP:20260415T111028
CREATED:20251028T222059Z
LAST-MODIFIED:20251109T084531Z
UID:17313-1762387200-1762473599@orchestrasaveriomercadante.it
SUMMARY:CONCERTO D'AMORE
DESCRIPTION:FABIO TESTI- voce recitante \nSTEFANO MAFFIZZONI-flauto \nANDREA CANDELI-chitarra \nIdeato e diretto da Fabio Testi e Stefano Maffizzoni\, è un itinerario poetico-musicale attraverso i brani e le composizioni poetiche di Federico Garcia Lorca\, Alda Merini\, Pablo Neruda\, Jacques Prevert\, Aleixandre Vicente. La voce calda e suadente del celebre attore Fabio Testi intervallata da brani intensi musicali da due artisti d’eccezione come Stefano Maffizzoni e Andrea Candeli\, accompagneranno lo spettatore in un viaggio sentimentale sull’Amore\, alla scoperta delle più belle poesie fuoriuscite dalla penna dei poeti più sensibili e famosi del 900’.
URL:https://orchestrasaveriomercadante.it/evento/concerto-damore/
LOCATION:TEATRO MANGIATORDI\, ALTAMURA
CATEGORIES:Autunno 2025,Eventi,Festival
END:VEVENT
END:VCALENDAR