BEGIN:VCALENDAR
VERSION:2.0
PRODID:-//Orchestra Saverio Mercadante - ECPv6.13.2.1//NONSGML v1.0//EN
CALSCALE:GREGORIAN
METHOD:PUBLISH
X-ORIGINAL-URL:https://orchestrasaveriomercadante.it
X-WR-CALDESC:Eventi per Orchestra Saverio Mercadante
REFRESH-INTERVAL;VALUE=DURATION:PT1H
X-Robots-Tag:noindex
X-PUBLISHED-TTL:PT1H
BEGIN:VTIMEZONE
TZID:Europe/Rome
BEGIN:DAYLIGHT
TZOFFSETFROM:+0100
TZOFFSETTO:+0200
TZNAME:CEST
DTSTART:20250330T010000
END:DAYLIGHT
BEGIN:STANDARD
TZOFFSETFROM:+0200
TZOFFSETTO:+0100
TZNAME:CET
DTSTART:20251026T010000
END:STANDARD
END:VTIMEZONE
BEGIN:VEVENT
DTSTART;VALUE=DATE:20251120
DTEND;VALUE=DATE:20251121
DTSTAMP:20260420T065339
CREATED:20251030T203641Z
LAST-MODIFIED:20251118T005843Z
UID:17338-1763596800-1763683199@orchestrasaveriomercadante.it
SUMMARY:IO ADORO LA SINTESI...SAR0' BRE...
DESCRIPTION:MAURIZIO SANTILLI- attore
URL:https://orchestrasaveriomercadante.it/evento/io-adoro-la-sintesi-sar0-bre/
LOCATION:TEATRO MANGIATORDI\, ALTAMURA
CATEGORIES:Autunno 2025,Eventi,Festival
ATTACH;FMTTYPE=image/jpeg:https://orchestrasaveriomercadante.it/wp-content/uploads/2025/10/20-novembre-componimenti-1-scaled.jpg
END:VEVENT
END:VCALENDAR