BEGIN:VCALENDAR
VERSION:2.0
PRODID:-//Orchestra Saverio Mercadante - ECPv6.13.2.1//NONSGML v1.0//EN
CALSCALE:GREGORIAN
METHOD:PUBLISH
X-ORIGINAL-URL:https://orchestrasaveriomercadante.it
X-WR-CALDESC:Eventi per Orchestra Saverio Mercadante
REFRESH-INTERVAL;VALUE=DURATION:PT1H
X-Robots-Tag:noindex
X-PUBLISHED-TTL:PT1H
BEGIN:VTIMEZONE
TZID:Europe/Rome
BEGIN:DAYLIGHT
TZOFFSETFROM:+0100
TZOFFSETTO:+0200
TZNAME:CEST
DTSTART:20250330T010000
END:DAYLIGHT
BEGIN:STANDARD
TZOFFSETFROM:+0200
TZOFFSETTO:+0100
TZNAME:CET
DTSTART:20251026T010000
END:STANDARD
END:VTIMEZONE
BEGIN:VEVENT
DTSTART;TZID=Europe/Rome:20251201T210000
DTEND;TZID=Europe/Rome:20251201T230000
DTSTAMP:20260415T123110
CREATED:20251101T202348Z
LAST-MODIFIED:20251130T190801Z
UID:17357-1764622800-1764630000@orchestrasaveriomercadante.it
SUMMARY:IL GENIO DI MOZART
DESCRIPTION:  \nDAVID BOLDRINI-pianoforte \nGIBBONI ANNASTELLA-violino \nANDREA FUOLI-guida all’ascolto \nORCHESTRA SAVERIO MERCADANTE
URL:https://orchestrasaveriomercadante.it/evento/il-genio-di-mozart/
LOCATION:TEATRO MANGIATORDI\, ALTAMURA
CATEGORIES:Autunno 2025,Eventi,Festival
ATTACH;FMTTYPE=image/jpeg:https://orchestrasaveriomercadante.it/wp-content/uploads/2025/11/il-genio-di-mozart.jpg
END:VEVENT
END:VCALENDAR