BEGIN:VCALENDAR
VERSION:2.0
PRODID:-//Orchestra Saverio Mercadante - ECPv6.13.2.1//NONSGML v1.0//EN
CALSCALE:GREGORIAN
METHOD:PUBLISH
X-WR-CALNAME:Orchestra Saverio Mercadante
X-ORIGINAL-URL:https://orchestrasaveriomercadante.it
X-WR-CALDESC:Eventi per Orchestra Saverio Mercadante
REFRESH-INTERVAL;VALUE=DURATION:PT1H
X-Robots-Tag:noindex
X-PUBLISHED-TTL:PT1H
BEGIN:VTIMEZONE
TZID:Europe/Rome
BEGIN:DAYLIGHT
TZOFFSETFROM:+0100
TZOFFSETTO:+0200
TZNAME:CEST
DTSTART:20250330T010000
END:DAYLIGHT
BEGIN:STANDARD
TZOFFSETFROM:+0200
TZOFFSETTO:+0100
TZNAME:CET
DTSTART:20251026T010000
END:STANDARD
END:VTIMEZONE
BEGIN:VEVENT
DTSTART;TZID=Europe/Rome:20250318T220000
DTEND;TZID=Europe/Rome:20250319T000000
DTSTAMP:20260422T205950
CREATED:20250609T203712Z
LAST-MODIFIED:20250609T203712Z
UID:16315-1742335200-1742342400@orchestrasaveriomercadante.it
SUMMARY:MR. PHINO SHOW
DESCRIPTION:Martedì 18 MARZO 2025 ore 21 :00 \nMr. PHINO SHOW \nComicità intelligente e mai volgare  è l’ingrediente fondamentale dell’arte di Gianfranco Phino\, eclettico e superlativo attore che passa con estrema disinvoltura dal cabaret al musical\, offrendo esilaranti performance anche come imitatore e cantante. Phino rappresenta  L’artista completo\, a tutto tondo\, sempre alla ricerca di  nuove espressioni comunicative che possano arrivare al pubblico e divertirlo con sana leggerezza. I suoi spettacoli\, scritti di proprio pugno\, propongono una comicità orientata verso la classe e l’eleganza\, due aspetti a lui congeniali . \nGiànfranco FINOCCHI -musicista\, cabarettista e non solo …. One Man Show \n  \n 
URL:https://orchestrasaveriomercadante.it/evento/mr-phino-show/
CATEGORIES:Festival,Primavera 2025
ATTACH;FMTTYPE=image/jpeg:https://orchestrasaveriomercadante.it/wp-content/uploads/2025/06/3-1.jpg
END:VEVENT
BEGIN:VEVENT
DTSTART;TZID=Europe/Rome:20250327T220000
DTEND;TZID=Europe/Rome:20250328T000000
DTSTAMP:20260422T205950
CREATED:20250610T042747Z
LAST-MODIFIED:20250610T042747Z
UID:16318-1743112800-1743120000@orchestrasaveriomercadante.it
SUMMARY:NEL MARE Cl SONO I COCCODRILLI
DESCRIPTION:Giovedì 27 MARZO ore 21.00 \nNEL MARE Cl SONO I COCCODRILLI \nSTORIA VERA DI ENAIATOLLAH AKBARI \nTratto dall’omonimo libro di FABIO GEDA \nAdattamento a cura di FABIO GEDA e CHRISTIAN DIDOMENICO ‘ \nLa storia di Enaiatollah\, fuggito dall’Afghanistan\, è una magnifica parabola che rappresenta uno dei drammi contemporanei più toccanti: le migrazioni di milioni di individui in fuga da territori devastati dalle guerre\, in cerca di un miraggio di libertà e di pace. L’attore pedagogo Christian Di Domenico mette in scena una storia che ci riguarda\, anche se preferiamo non ascoltarla. L’attuale\, diffusa indifferenza veRso quel che sta succedendo agli afghani e a tutti gli altri popoli che approdano sulle nostre spiagge\, ha radici profonde. Anni di sfrenato materialismo hanno ridotto e marginalìizato il ruolo della morale nella vita della gente\,  facendo di valori come il denaro\, il successo e il tornaconto personale il solo metro di giudizio. Senza tempo per fermarsi a riflettere; preso sempre più nell’ingranaggio di una vita altamente competìtiva che lascia sempre meno spazio al privato\, l’uomo del benessere e dei consumi ha come perso la sua capacità di commuoversi e di indignarsi. È tutto concentrato su di sé\, non ha occhi né cuore per quel che gli succede intorno. \nChristian DI DOMENICO -attore \n  \n 
URL:https://orchestrasaveriomercadante.it/evento/nel-mare-cl-sono-i-coccodrilli/
CATEGORIES:Festival,Primavera 2025
ATTACH;FMTTYPE=image/jpeg:https://orchestrasaveriomercadante.it/wp-content/uploads/2025/06/4-1.jpg
END:VEVENT
END:VCALENDAR