BEGIN:VCALENDAR
VERSION:2.0
PRODID:-//Orchestra Saverio Mercadante - ECPv6.13.2.1//NONSGML v1.0//EN
CALSCALE:GREGORIAN
METHOD:PUBLISH
X-WR-CALNAME:Orchestra Saverio Mercadante
X-ORIGINAL-URL:https://orchestrasaveriomercadante.it
X-WR-CALDESC:Eventi per Orchestra Saverio Mercadante
REFRESH-INTERVAL;VALUE=DURATION:PT1H
X-Robots-Tag:noindex
X-PUBLISHED-TTL:PT1H
BEGIN:VTIMEZONE
TZID:Europe/Rome
BEGIN:DAYLIGHT
TZOFFSETFROM:+0100
TZOFFSETTO:+0200
TZNAME:CEST
DTSTART:20250330T010000
END:DAYLIGHT
BEGIN:STANDARD
TZOFFSETFROM:+0200
TZOFFSETTO:+0100
TZNAME:CET
DTSTART:20251026T010000
END:STANDARD
END:VTIMEZONE
BEGIN:VEVENT
DTSTART;TZID=Europe/Rome:20250306T220000
DTEND;TZID=Europe/Rome:20250307T000000
DTSTAMP:20260422T193720
CREATED:20250609T201107Z
LAST-MODIFIED:20250614T181427Z
UID:16306-1741298400-1741305600@orchestrasaveriomercadante.it
SUMMARY:ANIMO E CORE OMAGGIO ALLA MUSICA NAPOLETANA DALL'800 AD OGGI
DESCRIPTION:Giovedì 06 MARZO 2025 ore 21 :00 \nANIMO E CORE \nOMAGGIO ALLA MUSICA NAPOLETANA DALL’800 AD OGGI \nPer Giuseppe Milici\, armonicista palenuitlno con quarant’anni di attività tra concerti in giro per il mondo e trasmissioni televisive\, è arrivato il momento di rendere omaggio alla musica\, che più di ogni altro genere rappresenta l’italianità nel mondo\, ovvero\, la musica napoletana. \nIl repertorio è basato principalmente su quei grandi classici come: I’ TE VURRIA V ASA’\, RESTA CU’ MME\, ANEMA E CORE\, ‘O SOLE  MIO\, MARIA MARI’\, PASQUALINO MARAJA’\, MALAFEMMENA\, TU SI NA COSA GRANDE\, TE VOGLIO BENE ASSA\,JE\, TORNA A SURRIENTO … brani che hanno avuto tra gli interpreti esecutori internazionali quali: Luciano Pavarotti\, Andrea Bocelli\, Paul McCartney\, Elvis Presley\, Dean Martin e molti altri \nGiuseppe MILICI -armonica \nSaverio PETRUZZELLIS- batteria \nFilippo DE SALVO -basso elettrico \nPaolo LUISO -pianoforte \n  \n 
URL:https://orchestrasaveriomercadante.it/evento/anema-e-core-omaggio-alla-musica-napoletana-dall800-ad-oggi/
CATEGORIES:Festival,Primavera 2025
ATTACH;FMTTYPE=image/jpeg:https://orchestrasaveriomercadante.it/wp-content/uploads/2025/06/1.jpg
END:VEVENT
END:VCALENDAR