BEGIN:VCALENDAR
VERSION:2.0
PRODID:-//Orchestra Saverio Mercadante - ECPv6.13.2.1//NONSGML v1.0//EN
CALSCALE:GREGORIAN
METHOD:PUBLISH
X-WR-CALNAME:Orchestra Saverio Mercadante
X-ORIGINAL-URL:https://orchestrasaveriomercadante.it
X-WR-CALDESC:Eventi per Orchestra Saverio Mercadante
REFRESH-INTERVAL;VALUE=DURATION:PT1H
X-Robots-Tag:noindex
X-PUBLISHED-TTL:PT1H
BEGIN:VTIMEZONE
TZID:Europe/Rome
BEGIN:DAYLIGHT
TZOFFSETFROM:+0100
TZOFFSETTO:+0200
TZNAME:CEST
DTSTART:20250330T010000
END:DAYLIGHT
BEGIN:STANDARD
TZOFFSETFROM:+0200
TZOFFSETTO:+0100
TZNAME:CET
DTSTART:20251026T010000
END:STANDARD
END:VTIMEZONE
BEGIN:VEVENT
DTSTART;TZID=Europe/Rome:20250313T220000
DTEND;TZID=Europe/Rome:20250314T000000
DTSTAMP:20260422T193803
CREATED:20250609T202105Z
LAST-MODIFIED:20251103T173603Z
UID:16309-1741903200-1741910400@orchestrasaveriomercadante.it
SUMMARY:CARO PINO TI SCRIVO
DESCRIPTION:Giovedì 13 MARZO 2025 ore 21:00 \nCARO PINO TI SCRIVO \nOMAGGIO A PINO DANIELE \n“Caro Pino ti scrivo” è un viaggio emozionante tra musica e parole\, uno spettacolo concerto che rende omaggio al genio e all’anima di Pino Daniele\, il poeta partenopeo che ha segnato intere generazioni con il suo inconfondibile intreccio di musica\, cultura e sentimento. Protagonisti dello spettacolo sono Ettore Bassi\, attore cli grande sensibilità\, e la talentuosa interprete Debora lannotta\, che insieme ripercorrono l’universo di Pino Daniele in un dialogo tra narrazione e melodia. Ogni canzone\, da “Napule è” a “Quando” e molti altri capolavori\, sarà preceduta da un racconto intenso e toccante\, che ne svelerà le origini\, le ispirazioni e gli aneddoti che hanno accompagnato la vita e l’arte del cantautore. Con la delicatezza delle parole e la potenza della musica\, lo spettacolo invita il pubblico a scoprire un Pino Daniele intimo e universale\, capace di parlare ai cuori di tutti. Un omaggio poetico\, fatto di emozioni e ricordi\, per celebrare non solò l’artista\, ma anche l’uomo che ha saputo raccontare Napoli e il mondo con una voce unica e irripetibile. “Caro Pino ti scrivo” è una lettera d’amore in musica\, un dialogo senza tempo con un artista che continua a vivere attraverso le sue note immortali. \nETTORE BASSI -voce narrante \nSaverio PETRUZZELLIS -batteria \nFilippo DE SALVO -basso elettrico \nLino PARIOTA -pianoforte \n  \n 
URL:https://orchestrasaveriomercadante.it/evento/caro-pino-ti-scrivo/
CATEGORIES:Festival,Primavera 2025
ATTACH;FMTTYPE=image/jpeg:https://orchestrasaveriomercadante.it/wp-content/uploads/2025/06/2-2.jpg
END:VEVENT
END:VCALENDAR