BEGIN:VCALENDAR
VERSION:2.0
PRODID:-//Orchestra Saverio Mercadante - ECPv6.13.2.1//NONSGML v1.0//EN
CALSCALE:GREGORIAN
METHOD:PUBLISH
X-ORIGINAL-URL:https://orchestrasaveriomercadante.it
X-WR-CALDESC:Eventi per Orchestra Saverio Mercadante
REFRESH-INTERVAL;VALUE=DURATION:PT1H
X-Robots-Tag:noindex
X-PUBLISHED-TTL:PT1H
BEGIN:VTIMEZONE
TZID:Europe/Rome
BEGIN:DAYLIGHT
TZOFFSETFROM:+0100
TZOFFSETTO:+0200
TZNAME:CEST
DTSTART:20260329T010000
END:DAYLIGHT
BEGIN:STANDARD
TZOFFSETFROM:+0200
TZOFFSETTO:+0100
TZNAME:CET
DTSTART:20261025T010000
END:STANDARD
END:VTIMEZONE
BEGIN:VEVENT
DTSTART;TZID=Europe/Rome:20260327T210000
DTEND;TZID=Europe/Rome:20260327T230000
DTSTAMP:20260415T193917
CREATED:20260302T224837Z
LAST-MODIFIED:20260302T224837Z
UID:17854-1774645200-1774652400@orchestrasaveriomercadante.it
SUMMARY:27 Marzo-Teatro Mangiatordi Altamura-EROMA\, DAL CUORE ALLA LUCE
DESCRIPTION:  \nEROMA \nDAL CUORE ALLA LUCE \nFrancesco LOPORCHIO – Lead Vocal e Keyboards\nLuciano BUTTIGLIONE – Lead Vocal e Acoustic guitar\nRicardo VALENCIA Percussion e Panflute e Vocals\nLila REYES – Percussion e Vocals\nPietro FANIZZI – Guitar e Vocals\nGabriele RICCO Drums\nFrancesca OLIVETO – Bass Vocals \n  \n \n 
URL:https://orchestrasaveriomercadante.it/evento/27-marzo-teatro-mangiatordi-altamura-eroma-dal-cuore-alla-luce/
LOCATION:TEATRO MANGIATORDI\, ALTAMURA
CATEGORIES:Eventi,Primavera 2026
ATTACH;FMTTYPE=image/jpeg:https://orchestrasaveriomercadante.it/wp-content/uploads/2026/03/27-marzo-festival.jpg
END:VEVENT
BEGIN:VEVENT
DTSTART;TZID=Europe/Rome:20260320T210000
DTEND;TZID=Europe/Rome:20260320T230000
DTSTAMP:20260415T193917
CREATED:20260302T203229Z
LAST-MODIFIED:20260302T204121Z
UID:17846-1774040400-1774047600@orchestrasaveriomercadante.it
SUMMARY:20 Marzo-Teatro Mangiatordi Altamura-ITALIAN HARMONISTS - Le Voci della Scala
DESCRIPTION:  \nITALIAN HARMONISTS – Le Voci della Scala\nTeatro Mangiatordi\, Altamura\nCon: Andrea Semeraro (tenore)\, Giorgio Tiboni (tenore)\, Luca Di Gioia (tenore)\, Michele Mauro (tenore)\, Sandro Chiri (basso)\, Jader Costa (pianoforte).\nUn viaggio musicale nel tempo con il quartetto vocale che incanta. \n  \n \n 
URL:https://orchestrasaveriomercadante.it/evento/20-marzo-teatro-mangiatordi-altamura-italian-harmonists-le-voci-della-scala/
LOCATION:TEATRO MANGIATORDI\, ALTAMURA
CATEGORIES:Eventi,Primavera 2026
ATTACH;FMTTYPE=image/jpeg:https://orchestrasaveriomercadante.it/wp-content/uploads/2026/03/20-marzo-festival-1.jpg
END:VEVENT
BEGIN:VEVENT
DTSTART;TZID=Europe/Rome:20260313T210000
DTEND;TZID=Europe/Rome:20260313T230000
DTSTAMP:20260415T193917
CREATED:20260301T225209Z
LAST-MODIFIED:20260304T180212Z
UID:17835-1773435600-1773442800@orchestrasaveriomercadante.it
SUMMARY:13 Marzo-Teatro Mangiatordi Altamura-AMMORE E NIENTE CCHIÙ
DESCRIPTION:  \nLe poesie\, le canzoni e la vita del Principe de Curtis\, in arte Totò\nUn omaggio intenso e raffinato alla figura di Totò\, attraverso parole e musica che ne raccontano l’anima più profonda: quella poetica\, ironica e malinconica.\nLa narrazione è affidata alla voce di Michele Mirabella\, accompagnata dalle musiche del Quintetto Saverio Mercadante.\nLa voce solista è Marinunzia Perrone\, con arrangiamenti di A. L. Cornacchia e la direzione di Maurizio Dones.\nUno spettacolo che intreccia poesia\, canzone e racconto\, restituendo al pubblico tutta l’umanità e la grandezza artistica di Totò. \n  \n \n 
URL:https://orchestrasaveriomercadante.it/evento/13-marzo-teatro-mangiatordi-altamura-ammore-e-niente-cchiu/
LOCATION:TEATRO MANGIATORDI\, ALTAMURA
CATEGORIES:Eventi,Primavera 2026
ATTACH;FMTTYPE=image/jpeg:https://orchestrasaveriomercadante.it/wp-content/uploads/2026/03/WhatsApp-Image-2026-03-04-at-14.12.10.jpeg
END:VEVENT
END:VCALENDAR