BEGIN:VCALENDAR
VERSION:2.0
PRODID:-//Orchestra Saverio Mercadante - ECPv6.13.2.1//NONSGML v1.0//EN
CALSCALE:GREGORIAN
METHOD:PUBLISH
X-ORIGINAL-URL:https://orchestrasaveriomercadante.it
X-WR-CALDESC:Eventi per Orchestra Saverio Mercadante
REFRESH-INTERVAL;VALUE=DURATION:PT1H
X-Robots-Tag:noindex
X-PUBLISHED-TTL:PT1H
BEGIN:VTIMEZONE
TZID:Europe/Rome
BEGIN:DAYLIGHT
TZOFFSETFROM:+0100
TZOFFSETTO:+0200
TZNAME:CEST
DTSTART:20260329T010000
END:DAYLIGHT
BEGIN:STANDARD
TZOFFSETFROM:+0200
TZOFFSETTO:+0100
TZNAME:CET
DTSTART:20261025T010000
END:STANDARD
END:VTIMEZONE
BEGIN:VEVENT
DTSTART;TZID=Europe/Rome:20260313T210000
DTEND;TZID=Europe/Rome:20260313T230000
DTSTAMP:20260415T180407
CREATED:20260301T225209Z
LAST-MODIFIED:20260304T180212Z
UID:17835-1773435600-1773442800@orchestrasaveriomercadante.it
SUMMARY:13 Marzo-Teatro Mangiatordi Altamura-AMMORE E NIENTE CCHIÙ
DESCRIPTION:  \nLe poesie\, le canzoni e la vita del Principe de Curtis\, in arte Totò\nUn omaggio intenso e raffinato alla figura di Totò\, attraverso parole e musica che ne raccontano l’anima più profonda: quella poetica\, ironica e malinconica.\nLa narrazione è affidata alla voce di Michele Mirabella\, accompagnata dalle musiche del Quintetto Saverio Mercadante.\nLa voce solista è Marinunzia Perrone\, con arrangiamenti di A. L. Cornacchia e la direzione di Maurizio Dones.\nUno spettacolo che intreccia poesia\, canzone e racconto\, restituendo al pubblico tutta l’umanità e la grandezza artistica di Totò. \n  \n \n 
URL:https://orchestrasaveriomercadante.it/evento/13-marzo-teatro-mangiatordi-altamura-ammore-e-niente-cchiu/
LOCATION:TEATRO MANGIATORDI\, ALTAMURA
CATEGORIES:Eventi,Primavera 2026
ATTACH;FMTTYPE=image/jpeg:https://orchestrasaveriomercadante.it/wp-content/uploads/2026/03/WhatsApp-Image-2026-03-04-at-14.12.10.jpeg
END:VEVENT
END:VCALENDAR