BEGIN:VCALENDAR
VERSION:2.0
PRODID:-//Orchestra Saverio Mercadante - ECPv6.13.2.1//NONSGML v1.0//EN
CALSCALE:GREGORIAN
METHOD:PUBLISH
X-WR-CALNAME:Orchestra Saverio Mercadante
X-ORIGINAL-URL:https://orchestrasaveriomercadante.it
X-WR-CALDESC:Eventi per Orchestra Saverio Mercadante
REFRESH-INTERVAL;VALUE=DURATION:PT1H
X-Robots-Tag:noindex
X-PUBLISHED-TTL:PT1H
BEGIN:VTIMEZONE
TZID:Europe/Rome
BEGIN:DAYLIGHT
TZOFFSETFROM:+0100
TZOFFSETTO:+0200
TZNAME:CEST
DTSTART:20250330T010000
END:DAYLIGHT
BEGIN:STANDARD
TZOFFSETFROM:+0200
TZOFFSETTO:+0100
TZNAME:CET
DTSTART:20251026T010000
END:STANDARD
END:VTIMEZONE
BEGIN:VEVENT
DTSTART;TZID=Europe/Rome:20250906T213000
DTEND;TZID=Europe/Rome:20250906T233000
DTSTAMP:20260420T060741
CREATED:20250902T195506Z
LAST-MODIFIED:20250902T195506Z
UID:17111-1757194200-1757201400@orchestrasaveriomercadante.it
SUMMARY:Fiorella Sinfonica – Live con Orchestra 2025 - sabato\, 06/09/2025 | 21:30 CORTONA | Piazza Signorelli
DESCRIPTION:Fiorella Mannoia - Tour 2025 \n\n\n\nFiorella Sinfonica – Live con Orchestra 2025 Fiorella Mannoia fa tappa sabato\, 06/09/2025 | 21:30 CORTONA | Piazza Signorelli \ncon il tour Fiorella Sinfonica – Live con Orchestra\, accompagnata dall’’ Orchestra Sinfonica Saverio Mercadante diretta dal M° Rocco Debernardis. Un concerto intenso ed elegante\, dove i grandi successi dell’artista si intrecciano ai nuovi brani dell’album Disobbedire (2024)\, in un racconto musicale che emoziona e sorprende. \n\nACQUISTA IL TUO BIGLIETTO
URL:https://orchestrasaveriomercadante.it/evento/fiorella-sinfonica-live-con-orchestra-2025-sabato-06-09-2025-2130-cortona-piazza-signorelli/
LOCATION:CORTONA\, Piazza Signorelli\, Cortona
CATEGORIES:Fiorella Mannoia Tour,Tour
ATTACH;FMTTYPE=image/jpeg:https://orchestrasaveriomercadante.it/wp-content/uploads/2025/06/Fiorella-Mannoia-2025-1.jpg
END:VEVENT
BEGIN:VEVENT
DTSTART;TZID=Europe/Rome:20250904T213000
DTEND;TZID=Europe/Rome:20250904T233000
DTSTAMP:20260420T060741
CREATED:20250901T184649Z
LAST-MODIFIED:20260123T221053Z
UID:17103-1757021400-1757028600@orchestrasaveriomercadante.it
SUMMARY:Fiorella Sinfonica – Live con Orchestra 2025 - giovedì\, 04/09/2025 | 21:00 PISA | Piazza dei Cavalieri
DESCRIPTION:Fiorella Mannoia - Tour 2025 \n\n\n\nFiorella Sinfonica – Live con Orchestra 2025 Fiorella Mannoia fa tappa giovedì\, 04/09/2025 | 21:00 PISA | Piazza dei Cavalieri \ncon il tour Fiorella Sinfonica – Live con Orchestra\, accompagnata dall’’ Orchestra Sinfonica Saverio Mercadante diretta dal M° Rocco Debernardis. Un concerto intenso ed elegante\, dove i grandi successi dell’artista si intrecciano ai nuovi brani dell’album Disobbedire (2024)\, in un racconto musicale che emoziona e sorprende. \n\nACQUISTA IL TUO BIGLIETTO
URL:https://orchestrasaveriomercadante.it/evento/giovedi-04-09-2025-2100-pisa-piazza-dei-cavalieri/
LOCATION:Piazza dei Cavalieri\, Pisa
CATEGORIES:Fiorella Mannoia Tour,Tour
ATTACH;FMTTYPE=image/jpeg:https://orchestrasaveriomercadante.it/wp-content/uploads/2025/06/Fiorella-Mannoia-2025-1.jpg
END:VEVENT
BEGIN:VEVENT
DTSTART;TZID=Europe/Rome:20250902T213000
DTEND;TZID=Europe/Rome:20250902T233000
DTSTAMP:20260420T060741
CREATED:20250827T124800Z
LAST-MODIFIED:20260120T220847Z
UID:17085-1756848600-1756855800@orchestrasaveriomercadante.it
SUMMARY:Fiorella Sinfonica – Live con Orchestra 2025 - martedì\, 02/09/2025 | 21:00 MANTOVA | Esedra di Palazzo Te
DESCRIPTION:Fiorella Mannoia - Tour 2025 \n\n\n\nFiorella Sinfonica – Live con Orchestra 2025 Fiorella Mannoia fa tappa martedì\, 02/09/2025 | 21:00 MANTOVA | Esedra di Palazzo Te \ncon il tour Fiorella Sinfonica – Live con Orchestra\, accompagnata dall’’ Orchestra Sinfonica Saverio Mercadante diretta dal M° Rocco Debernardis. Un concerto intenso ed elegante\, dove i grandi successi dell’artista si intrecciano ai nuovi brani dell’album Disobbedire (2024)\, in un racconto musicale che emoziona e sorprende. \n\nACQUISTA IL TUO BIGLIETTO
URL:https://orchestrasaveriomercadante.it/evento/fiorella-sinfonica-live-con-orchestra-2025-martedi-02-09-2025-2100-mantova-esedra-di-palazzo-te/
LOCATION:Piazza Esedra\, Mantova
CATEGORIES:Fiorella Mannoia Tour,Tour
ATTACH;FMTTYPE=image/jpeg:https://orchestrasaveriomercadante.it/wp-content/uploads/2025/06/Fiorella-Mannoia-2025-1.jpg
END:VEVENT
BEGIN:VEVENT
DTSTART;TZID=Europe/Rome:20250829T213000
DTEND;TZID=Europe/Rome:20250829T233000
DTSTAMP:20260420T060741
CREATED:20250827T124201Z
LAST-MODIFIED:20260123T221300Z
UID:17081-1756503000-1756510200@orchestrasaveriomercadante.it
SUMMARY:Fiorella Sinfonica – Live con Orchestra 2025 - venerdì\, 29/08/2025 | 21:30 AGRIGENTO | Live Arena
DESCRIPTION:Fiorella Mannoia - Tour 2025 \n\n\n\nFiorella Sinfonica – Live con Orchestra 2025 Fiorella Mannoia fa tappa  venerdì\, 29/08/2025 | 21:30 ad AGRIGENTO | Live Arena \ncon il tour Fiorella Sinfonica – Live con Orchestra\, accompagnata dall’’ Orchestra Sinfonica Saverio Mercadante diretta dal M° Rocco Debernardis. Un concerto intenso ed elegante\, dove i grandi successi dell’artista si intrecciano ai nuovi brani dell’album Disobbedire (2024)\, in un racconto musicale che emoziona e sorprende. \n\nACQUISTA IL TUO BIGLIETTO
URL:https://orchestrasaveriomercadante.it/evento/fiorella-sinfonica-live-con-orchestra-2025-venerdi-29-08-2025-2130-agrigento-live-arena/
LOCATION:Arena Agrigento\, Agrigento
CATEGORIES:Fiorella Mannoia Tour,Tour
ATTACH;FMTTYPE=image/jpeg:https://orchestrasaveriomercadante.it/wp-content/uploads/2025/06/Fiorella-Mannoia-2025-1.jpg
END:VEVENT
BEGIN:VEVENT
DTSTART;TZID=Europe/Rome:20250825T213000
DTEND;TZID=Europe/Rome:20250825T233000
DTSTAMP:20260420T060741
CREATED:20250822T061326Z
LAST-MODIFIED:20260120T221323Z
UID:17071-1756157400-1756164600@orchestrasaveriomercadante.it
SUMMARY:Fiorella Sinfonica – Live con Orchestra 2025 - lunedì\, 25/08/2025 | 21:30 BENEVENTO | Piazza Cardinal Pacca
DESCRIPTION:Fiorella Mannoia - Tour 2025 \n\n\n\nFiorella Sinfonica – Live con Orchestra 2025 Fiorella Mannoia fa tappa lunedì\, 25/08/2025 | 21:30 a BENEVENTO | Piazza Cardinal Pacca \ncon il tour Fiorella Sinfonica – Live con Orchestra\, accompagnata dall’’ Orchestra Sinfonica Saverio Mercadante diretta dal M° Rocco Debernardis. Un concerto intenso ed elegante\, dove i grandi successi dell’artista si intrecciano ai nuovi brani dell’album Disobbedire (2024)\, in un racconto musicale che emoziona e sorprende. \n\nACQUISTA IL TUO BIGLIETTO
URL:https://orchestrasaveriomercadante.it/evento/lunedi-25-08-2025-2130-benevento-piazza-cardinal-pacca/
LOCATION:Piazza Cardinal Pacca\, Benevento
CATEGORIES:Fiorella Mannoia Tour,Tour
ATTACH;FMTTYPE=image/jpeg:https://orchestrasaveriomercadante.it/wp-content/uploads/2025/06/Fiorella-Mannoia-2025-1.jpg
END:VEVENT
BEGIN:VEVENT
DTSTART;TZID=Europe/Rome:20250823T213000
DTEND;TZID=Europe/Rome:20250823T233000
DTSTAMP:20260420T060741
CREATED:20250822T060843Z
LAST-MODIFIED:20260123T220802Z
UID:17065-1755984600-1755991800@orchestrasaveriomercadante.it
SUMMARY:Fiorella Sinfonica – Live con Orchestra 2025 - sabato\, 23/08/2025 | 21:30 GROTTAGLIE | Cave di Fantiano
DESCRIPTION:Fiorella Mannoia - Tour 2025 \n\n\n\nFiorella Sinfonica – Live con Orchestra 2025 \nFiorella Mannoia fa tappa sabato\, 23/08/2025 | 21:30 a GROTTAGLIE | Cave di Fantiano \ncon il tour Fiorella Sinfonica – Live con Orchestra\, accompagnata dall’’ Orchestra Sinfonica Saverio Mercadante diretta dal M° Rocco Debernardis. Un concerto intenso ed elegante\, dove i grandi successi dell’artista si intrecciano ai nuovi brani dell’album Disobbedire (2024)\, in un racconto musicale che emoziona e sorprende. \n\nACQUISTA IL TUO BIGLIETTO
URL:https://orchestrasaveriomercadante.it/evento/fiorella-sinfonica-live-con-orchestra-2025-sabato-23-08-2025-2130-grottaglie-cave-di-fantiano/
LOCATION:Cave di Fantiano\, Grottaglie
CATEGORIES:Fiorella Mannoia Tour,Tour
ATTACH;FMTTYPE=image/jpeg:https://orchestrasaveriomercadante.it/wp-content/uploads/2025/06/Fiorella-Mannoia-2025-1.jpg
END:VEVENT
BEGIN:VEVENT
DTSTART;TZID=Europe/Rome:20250814T213000
DTEND;TZID=Europe/Rome:20250814T233000
DTSTAMP:20260420T060741
CREATED:20250812T125644Z
LAST-MODIFIED:20250812T125644Z
UID:17038-1755207000-1755214200@orchestrasaveriomercadante.it
SUMMARY:Fiorella Sinfonica – Live con Orchestra 2025 - giovedì\, 14/08/2025 | 21:30 SANTA MARIA DI CASTELLABATE | Villa Matarazzo - Arena in Villa 900
DESCRIPTION:Fiorella Mannoia - Tour 2025 \n\n\n\nFiorella Sinfonica – Live con Orchestra 2025 \nFiorella Mannoia fa tappa giovedì\, 14/08/2025 | 21:30 a SANTA MARIA DI CASTELLABATE | Villa Matarazzo – Arena in Villa 900 con il tour Fiorella Sinfonica – Live con Orchestra\, accompagnata dall’’ Orchestra Sinfonica Saverio Mercadante diretta dal M° Rocco Debernardis. Un concerto intenso ed elegante\, dove i grandi successi dell’artista si intrecciano ai nuovi brani dell’album Disobbedire (2024)\, in un racconto musicale che emoziona e sorprende. \n\nACQUISTA IL TUO BIGLIETTO
URL:https://orchestrasaveriomercadante.it/evento/fiorella-sinfonica-live-con-orchestra-2025-giovedi-14-08-2025-2130-santa-maria-di-castellabate-villa-matarazzo-arena-in-villa-900/
LOCATION:CORTONA\, Piazza Signorelli\, Cortona
CATEGORIES:Fiorella Mannoia Tour,Tour
ATTACH;FMTTYPE=image/jpeg:https://orchestrasaveriomercadante.it/wp-content/uploads/2025/06/Fiorella-Mannoia-2025-1.jpg
END:VEVENT
BEGIN:VEVENT
DTSTART;TZID=Europe/Rome:20250813T213000
DTEND;TZID=Europe/Rome:20250813T233000
DTSTAMP:20260420T060741
CREATED:20250812T124149Z
LAST-MODIFIED:20250812T124149Z
UID:17032-1755120600-1755127800@orchestrasaveriomercadante.it
SUMMARY:Fiorella Sinfonica – Live con Orchestra 2025 - 13 Agosto BAIA DOMIZIA (CE) Arena dei Pini ore 21.30
DESCRIPTION:Fiorella Mannoia - Tour 2025 \n\n\n\nFiorella Sinfonica – Live con Orchestra 2025 \nFiorella Mannoia fa tappa a Baia Domizia  – Arena dei Pini ore 21.30 con il tour Fiorella Sinfonica – Live con Orchestra\, accompagnata dall’’ Orchestra Sinfonica Saverio Mercadante diretta dal M° Rocco Debernardis. Un concerto intenso ed elegante\, dove i grandi successi dell’artista si intrecciano ai nuovi brani dell’album Disobbedire (2024)\, in un racconto musicale che emoziona e sorprende. \n\nACQUISTA IL TUO BIGLIETTO
URL:https://orchestrasaveriomercadante.it/evento/fiorella-sinfonica-live-con-orchestra-2025-13-agosto-baia-domizia-ce-arena-dei-pini-ore-21-30/
LOCATION:CORTONA\, Piazza Signorelli\, Cortona
CATEGORIES:Fiorella Mannoia Tour,Tour
ATTACH;FMTTYPE=image/jpeg:https://orchestrasaveriomercadante.it/wp-content/uploads/2025/06/Fiorella-Mannoia-2025-1.jpg
END:VEVENT
BEGIN:VEVENT
DTSTART;TZID=Europe/Rome:20250808T210000
DTEND;TZID=Europe/Rome:20250808T233000
DTSTAMP:20260420T060741
CREATED:20250801T070553Z
LAST-MODIFIED:20250801T070810Z
UID:16953-1754686800-1754695800@orchestrasaveriomercadante.it
SUMMARY:Fiorella Sinfonica – Live con Orchestra 2025 - 8 Agosto ASIAGO ore 21.00
DESCRIPTION:Fiorella Mannoia - Tour 2025 \n\n\n\nFiorella Sinfonica – Live con Orchestra 2025 \nFiorella Mannoia fa tappa a Asiago  – Piazza Carli ore 21.00 con il tour Fiorella Sinfonica – Live con Orchestra\, accompagnata dall’’ Orchestra Sinfonica Saverio Mercadante diretta dal M° Rocco Debernardis. Un concerto intenso ed elegante\, dove i grandi successi dell’artista si intrecciano ai nuovi brani dell’album Disobbedire (2024)\, in un racconto musicale che emoziona e sorprende. \n\nACQUISTA IL TUO BIGLIETTO
URL:https://orchestrasaveriomercadante.it/evento/fiorella-sinfonica-live-con-orchestra-2025-8-agosto-asiago-ore-21-00/
LOCATION:CORTONA\, Piazza Signorelli\, Cortona
CATEGORIES:Fiorella Mannoia Tour,Tour
ATTACH;FMTTYPE=image/jpeg:https://orchestrasaveriomercadante.it/wp-content/uploads/2025/06/Fiorella-Mannoia-2025-1.jpg
END:VEVENT
BEGIN:VEVENT
DTSTART;TZID=Europe/Rome:20250807T210000
DTEND;TZID=Europe/Rome:20250807T233000
DTSTAMP:20260420T060741
CREATED:20250801T065407Z
LAST-MODIFIED:20250801T065407Z
UID:16947-1754600400-1754609400@orchestrasaveriomercadante.it
SUMMARY:Fiorella Sinfonica – Live con Orchestra 2025 - 7 Agosto BRENO BS
DESCRIPTION:Fiorella Mannoia - Tour 2025 \n\n\n\nFiorella Sinfonica – Live con Orchestra 2025 \nFiorella Mannoia fa tappa a Breno  – Viale Italia con il tour Fiorella Sinfonica – Live con Orchestra\, accompagnata dall’’ Orchestra Sinfonica Saverio Mercadante diretta dal M° Rocco Debernardis. Un concerto intenso ed elegante\, dove i grandi successi dell’artista si intrecciano ai nuovi brani dell’album Disobbedire (2024)\, in un racconto musicale che emoziona e sorprende. \n\nACQUISTA IL TUO BIGLIETTO
URL:https://orchestrasaveriomercadante.it/evento/fiorella-sinfonica-live-con-orchestra-2025-7-agosto-breno-bs/
LOCATION:CORTONA\, Piazza Signorelli\, Cortona
CATEGORIES:Fiorella Mannoia Tour,Tour
ATTACH;FMTTYPE=image/jpeg:https://orchestrasaveriomercadante.it/wp-content/uploads/2025/06/Fiorella-Mannoia-2025-1.jpg
END:VEVENT
BEGIN:VEVENT
DTSTART;TZID=Europe/Rome:20250729T213000
DTEND;TZID=Europe/Rome:20250729T233000
DTSTAMP:20260420T060741
CREATED:20250717T170104Z
LAST-MODIFIED:20260123T220948Z
UID:16853-1753824600-1753831800@orchestrasaveriomercadante.it
SUMMARY:Fiorella Sinfonica – Live con Orchestra 2025 - 29 Luglio CERVIA
DESCRIPTION:Fiorella Mannoia - Tour 2025 \n\n\n\nFiorella Sinfonica – Live con Orchestra 2025 \nFiorella Mannoia fa tappa a Cervia  – Piazza Garibaldi con il tour Fiorella Sinfonica – Live con Orchestra\, accompagnata dall’’ Orchestra Sinfonica Saverio Mercadante diretta dal M° Rocco Debernardis. Un concerto intenso ed elegante\, dove i grandi successi dell’artista si intrecciano ai nuovi brani dell’album Disobbedire (2024)\, in un racconto musicale che emoziona e sorprende. \n\nACQUISTA IL TUO BIGLIETTO
URL:https://orchestrasaveriomercadante.it/evento/fiorella-sinfonica-live-con-orchestra-2025-29-luglio-cervia/
LOCATION:Piazza Garibaldi\, Cervia
CATEGORIES:Fiorella Mannoia Tour,Tour
ATTACH;FMTTYPE=image/jpeg:https://orchestrasaveriomercadante.it/wp-content/uploads/2025/06/Fiorella-Mannoia-2025-1.jpg
END:VEVENT
BEGIN:VEVENT
DTSTART;TZID=Europe/Rome:20250726T213000
DTEND;TZID=Europe/Rome:20250726T233000
DTSTAMP:20260420T060741
CREATED:20250717T164039Z
LAST-MODIFIED:20250717T172013Z
UID:16845-1753565400-1753572600@orchestrasaveriomercadante.it
SUMMARY:Fiorella Sinfonica – Live con Orchestra 2025 - 26 Luglio BERGAMO
DESCRIPTION:Fiorella Mannoia - Tour 2025 \n\n\n\nFiorella Sinfonica – Live con Orchestra 2025 \nFiorella Mannoia fa tappa a Bergamo – Lazzaretto con il tour Fiorella Sinfonica – Live con Orchestra\, accompagnata dall’’ Orchestra Sinfonica Saverio Mercadante diretta dal M° Rocco Debernardis. Un concerto intenso ed elegante\, dove i grandi successi dell’artista si intrecciano ai nuovi brani dell’album Disobbedire (2024)\, in un racconto musicale che emoziona e sorprende. \n\nACQUISTA IL TUO BIGLIETTO
URL:https://orchestrasaveriomercadante.it/evento/fiorella-sinfonica-live-con-orchestra-2025-26-luglio-bergamo/
LOCATION:BERGAMO\, Lazzaretto\, Bergamo
CATEGORIES:Fiorella Mannoia Tour,Tour
ATTACH;FMTTYPE=image/jpeg:https://orchestrasaveriomercadante.it/wp-content/uploads/2025/06/Fiorella-Mannoia-2025-1.jpg
END:VEVENT
BEGIN:VEVENT
DTSTART;TZID=Europe/Rome:20250724T213000
DTEND;TZID=Europe/Rome:20250724T213000
DTSTAMP:20260420T060741
CREATED:20250618T202720Z
LAST-MODIFIED:20250717T170953Z
UID:16575-1753392600-1753392600@orchestrasaveriomercadante.it
SUMMARY:Fiorella Sinfonica – Live con Orchestra 2025 - 24 Luglio
DESCRIPTION:Fiorella Mannoia - Tour 2025 \n\n\n\nFiorella Sinfonica – Live con Orchestra 2025 \nFiorella Mannoia fa tappa a Udine – Piazzale Castello con il tour Fiorella Sinfonica – Live con Orchestra\, accompagnata dall’’ Orchestra Sinfonica Saverio Mercadante diretta dal M° Rocco Debernardis. Un concerto intenso ed elegante\, dove i grandi successi dell’artista si intrecciano ai nuovi brani dell’album Disobbedire (2024)\, in un racconto musicale che emoziona e sorprende. \n\nACQUISTA IL TUO BIGLIETTO
URL:https://orchestrasaveriomercadante.it/evento/fiorella-sinfonica-live-con-orchestra-2025-24-luglio-2/
LOCATION:Udine\, Piazzale Castello\, Udine\, Italy
CATEGORIES:Fiorella Mannoia Tour,Tour
ATTACH;FMTTYPE=image/jpeg:https://orchestrasaveriomercadante.it/wp-content/uploads/2025/06/Fiorella-Mannoia-2025-1.jpg
END:VEVENT
BEGIN:VEVENT
DTSTART;TZID=Europe/Rome:20250721T213000
DTEND;TZID=Europe/Rome:20250721T213000
DTSTAMP:20260420T060741
CREATED:20250617T121215Z
LAST-MODIFIED:20250618T203934Z
UID:16550-1753133400-1753133400@orchestrasaveriomercadante.it
SUMMARY:Fiorella Sinfonica – Live con Orchestra 2025 - 21 Luglio
DESCRIPTION:Fiorella Mannoia - Tour 2025 \n\n\n\nFiorella Sinfonica – Live con Orchestra 2025 \nFiorella Mannoia fa tappa a Marina di Altidona con il tour Fiorella Sinfonica – Live con Orchestra\, accompagnata dall’’ Orchestra Sinfonica Saverio Mercadante diretta dal M° Rocco Debernardis. Un concerto intenso ed elegante\, dove i grandi successi dell’artista si intrecciano ai nuovi brani dell’album Disobbedire (2024)\, in un racconto musicale che emoziona e sorprende. \n\nACQUISTA IL TUO BIGLIETTO
URL:https://orchestrasaveriomercadante.it/evento/fiorella-sinfonica-live-con-orchestra-2025-21-luglio/
LOCATION:Parco dei due Ponti\, Via luigi Einaudi 1\, Marina di Altidona\, Italy
CATEGORIES:Fiorella Mannoia Tour,Tour
ATTACH;FMTTYPE=image/jpeg:https://orchestrasaveriomercadante.it/wp-content/uploads/2025/06/Fiorella-Mannoia-2025-1.jpg
END:VEVENT
BEGIN:VEVENT
DTSTART;TZID=Europe/Rome:20250718T213000
DTEND;TZID=Europe/Rome:20250718T213000
DTSTAMP:20260420T060741
CREATED:20250617T095111Z
LAST-MODIFIED:20250618T204056Z
UID:16528-1752874200-1752874200@orchestrasaveriomercadante.it
SUMMARY:Fiorella Sinfonica – Live con Orchestra 2025 - 18 Luglio
DESCRIPTION:Fiorella Mannoia - Tour 2025 \n\n\n\nFiorella Sinfonica – Live con Orchestra 2025 \nFiorella Mannoia fa tappa a Lanciano con il tour Fiorella Sinfonica – Live con Orchestra\, accompagnata dall’’ Orchestra Sinfonica Saverio Mercadante diretta dal M° Rocco Debernardis. Un concerto intenso ed elegante\, dove i grandi successi dell’artista si intrecciano ai nuovi brani dell’album Disobbedire (2024)\, in un racconto musicale che emoziona e sorprende. \n\nACQSUITA IL TUO BIGLIETTO
URL:https://orchestrasaveriomercadante.it/evento/fiorella-sinfonica-live-con-orchestra-2025-18-luglio/
LOCATION:Parco Villa Delle Rose\, Via Caduti di Nassiriya\, 18\, Lanciano\, CH\, 66034
CATEGORIES:Fiorella Mannoia Tour,Tour
ATTACH;FMTTYPE=image/jpeg:https://orchestrasaveriomercadante.it/wp-content/uploads/2025/06/Fiorella-Mannoia-2025-1.jpg
END:VEVENT
BEGIN:VEVENT
DTSTART;VALUE=DATE:20250715
DTEND;VALUE=DATE:20250716
DTSTAMP:20260420T060741
CREATED:20250617T093411Z
LAST-MODIFIED:20250618T133937Z
UID:16524-1752537600-1752623999@orchestrasaveriomercadante.it
SUMMARY:Fiorella Sinfonica – Live con Orchestra 2025 - 15 Luglio
DESCRIPTION:Fiorella Mannoia - Tour 2025 \n\n\n\nFiorella Sinfonica – Live con Orchestra 2025 \nFiorella Mannoia arriva a Mirano con il tour Fiorella Sinfonica – Live con Orchestra\, accompagnata dall’Orchestra Sinfonica Saverio Mercadante diretta dal M° Rocco Debernardis.\nUna serata speciale in cui la voce inconfondibile di Fiorella incontra la potenza del suono sinfonico\, tra grandi classici e brani più recenti tratti dall’album Disobbedire (2024). \n\nACQUISTA IL TUO BIGLIETTO
URL:https://orchestrasaveriomercadante.it/evento/fiorella-sinfonica-live-con-orchestra-2025-15-luglio/
LOCATION:Mirano (VE)\, Cavin di Sala\, 30035 MIRANO VE\, Mirano\, Venezia\, 30035\, Italy
CATEGORIES:Fiorella Mannoia Tour,Tour
ATTACH;FMTTYPE=image/jpeg:https://orchestrasaveriomercadante.it/wp-content/uploads/2025/06/Fiorella-Mannoia-2025-1.jpg
END:VEVENT
END:VCALENDAR