BEGIN:VCALENDAR
VERSION:2.0
PRODID:-//Orchestra Saverio Mercadante - ECPv6.13.2.1//NONSGML v1.0//EN
CALSCALE:GREGORIAN
METHOD:PUBLISH
X-WR-CALNAME:Orchestra Saverio Mercadante
X-ORIGINAL-URL:https://orchestrasaveriomercadante.it
X-WR-CALDESC:Eventi per Orchestra Saverio Mercadante
REFRESH-INTERVAL;VALUE=DURATION:PT1H
X-Robots-Tag:noindex
X-PUBLISHED-TTL:PT1H
BEGIN:VTIMEZONE
TZID:Europe/Rome
BEGIN:DAYLIGHT
TZOFFSETFROM:+0100
TZOFFSETTO:+0200
TZNAME:CEST
DTSTART:20250330T010000
END:DAYLIGHT
BEGIN:STANDARD
TZOFFSETFROM:+0200
TZOFFSETTO:+0100
TZNAME:CET
DTSTART:20251026T010000
END:STANDARD
END:VTIMEZONE
BEGIN:VEVENT
DTSTART;VALUE=DATE:20250715
DTEND;VALUE=DATE:20250716
DTSTAMP:20260415T122016
CREATED:20250617T093411Z
LAST-MODIFIED:20250618T133937Z
UID:16524-1752537600-1752623999@orchestrasaveriomercadante.it
SUMMARY:Fiorella Sinfonica – Live con Orchestra 2025 - 15 Luglio
DESCRIPTION:Fiorella Mannoia - Tour 2025 \n\n\n\nFiorella Sinfonica – Live con Orchestra 2025 \nFiorella Mannoia arriva a Mirano con il tour Fiorella Sinfonica – Live con Orchestra\, accompagnata dall’Orchestra Sinfonica Saverio Mercadante diretta dal M° Rocco Debernardis.\nUna serata speciale in cui la voce inconfondibile di Fiorella incontra la potenza del suono sinfonico\, tra grandi classici e brani più recenti tratti dall’album Disobbedire (2024). \n\nACQUISTA IL TUO BIGLIETTO
URL:https://orchestrasaveriomercadante.it/evento/fiorella-sinfonica-live-con-orchestra-2025-15-luglio/
LOCATION:Mirano (VE)\, Cavin di Sala\, 30035 MIRANO VE\, Mirano\, Venezia\, 30035\, Italy
CATEGORIES:Fiorella Mannoia Tour,Tour
ATTACH;FMTTYPE=image/jpeg:https://orchestrasaveriomercadante.it/wp-content/uploads/2025/06/Fiorella-Mannoia-2025-1.jpg
END:VEVENT
BEGIN:VEVENT
DTSTART;TZID=Europe/Rome:20250718T213000
DTEND;TZID=Europe/Rome:20250718T213000
DTSTAMP:20260415T122016
CREATED:20250617T095111Z
LAST-MODIFIED:20250618T204056Z
UID:16528-1752874200-1752874200@orchestrasaveriomercadante.it
SUMMARY:Fiorella Sinfonica – Live con Orchestra 2025 - 18 Luglio
DESCRIPTION:Fiorella Mannoia - Tour 2025 \n\n\n\nFiorella Sinfonica – Live con Orchestra 2025 \nFiorella Mannoia fa tappa a Lanciano con il tour Fiorella Sinfonica – Live con Orchestra\, accompagnata dall’’ Orchestra Sinfonica Saverio Mercadante diretta dal M° Rocco Debernardis. Un concerto intenso ed elegante\, dove i grandi successi dell’artista si intrecciano ai nuovi brani dell’album Disobbedire (2024)\, in un racconto musicale che emoziona e sorprende. \n\nACQSUITA IL TUO BIGLIETTO
URL:https://orchestrasaveriomercadante.it/evento/fiorella-sinfonica-live-con-orchestra-2025-18-luglio/
LOCATION:Parco Villa Delle Rose\, Via Caduti di Nassiriya\, 18\, Lanciano\, CH\, 66034
CATEGORIES:Fiorella Mannoia Tour,Tour
ATTACH;FMTTYPE=image/jpeg:https://orchestrasaveriomercadante.it/wp-content/uploads/2025/06/Fiorella-Mannoia-2025-1.jpg
END:VEVENT
BEGIN:VEVENT
DTSTART;TZID=Europe/Rome:20250721T213000
DTEND;TZID=Europe/Rome:20250721T213000
DTSTAMP:20260415T122016
CREATED:20250617T121215Z
LAST-MODIFIED:20250618T203934Z
UID:16550-1753133400-1753133400@orchestrasaveriomercadante.it
SUMMARY:Fiorella Sinfonica – Live con Orchestra 2025 - 21 Luglio
DESCRIPTION:Fiorella Mannoia - Tour 2025 \n\n\n\nFiorella Sinfonica – Live con Orchestra 2025 \nFiorella Mannoia fa tappa a Marina di Altidona con il tour Fiorella Sinfonica – Live con Orchestra\, accompagnata dall’’ Orchestra Sinfonica Saverio Mercadante diretta dal M° Rocco Debernardis. Un concerto intenso ed elegante\, dove i grandi successi dell’artista si intrecciano ai nuovi brani dell’album Disobbedire (2024)\, in un racconto musicale che emoziona e sorprende. \n\nACQUISTA IL TUO BIGLIETTO
URL:https://orchestrasaveriomercadante.it/evento/fiorella-sinfonica-live-con-orchestra-2025-21-luglio/
LOCATION:Parco dei due Ponti\, Via luigi Einaudi 1\, Marina di Altidona\, Italy
CATEGORIES:Fiorella Mannoia Tour,Tour
ATTACH;FMTTYPE=image/jpeg:https://orchestrasaveriomercadante.it/wp-content/uploads/2025/06/Fiorella-Mannoia-2025-1.jpg
END:VEVENT
BEGIN:VEVENT
DTSTART;TZID=Europe/Rome:20250724T213000
DTEND;TZID=Europe/Rome:20250724T213000
DTSTAMP:20260415T122016
CREATED:20250618T202720Z
LAST-MODIFIED:20250717T170953Z
UID:16575-1753392600-1753392600@orchestrasaveriomercadante.it
SUMMARY:Fiorella Sinfonica – Live con Orchestra 2025 - 24 Luglio
DESCRIPTION:Fiorella Mannoia - Tour 2025 \n\n\n\nFiorella Sinfonica – Live con Orchestra 2025 \nFiorella Mannoia fa tappa a Udine – Piazzale Castello con il tour Fiorella Sinfonica – Live con Orchestra\, accompagnata dall’’ Orchestra Sinfonica Saverio Mercadante diretta dal M° Rocco Debernardis. Un concerto intenso ed elegante\, dove i grandi successi dell’artista si intrecciano ai nuovi brani dell’album Disobbedire (2024)\, in un racconto musicale che emoziona e sorprende. \n\nACQUISTA IL TUO BIGLIETTO
URL:https://orchestrasaveriomercadante.it/evento/fiorella-sinfonica-live-con-orchestra-2025-24-luglio-2/
LOCATION:Udine\, Piazzale Castello\, Udine\, Italy
CATEGORIES:Fiorella Mannoia Tour,Tour
ATTACH;FMTTYPE=image/jpeg:https://orchestrasaveriomercadante.it/wp-content/uploads/2025/06/Fiorella-Mannoia-2025-1.jpg
END:VEVENT
BEGIN:VEVENT
DTSTART;TZID=Europe/Rome:20250726T213000
DTEND;TZID=Europe/Rome:20250726T233000
DTSTAMP:20260415T122016
CREATED:20250717T164039Z
LAST-MODIFIED:20250717T172013Z
UID:16845-1753565400-1753572600@orchestrasaveriomercadante.it
SUMMARY:Fiorella Sinfonica – Live con Orchestra 2025 - 26 Luglio BERGAMO
DESCRIPTION:Fiorella Mannoia - Tour 2025 \n\n\n\nFiorella Sinfonica – Live con Orchestra 2025 \nFiorella Mannoia fa tappa a Bergamo – Lazzaretto con il tour Fiorella Sinfonica – Live con Orchestra\, accompagnata dall’’ Orchestra Sinfonica Saverio Mercadante diretta dal M° Rocco Debernardis. Un concerto intenso ed elegante\, dove i grandi successi dell’artista si intrecciano ai nuovi brani dell’album Disobbedire (2024)\, in un racconto musicale che emoziona e sorprende. \n\nACQUISTA IL TUO BIGLIETTO
URL:https://orchestrasaveriomercadante.it/evento/fiorella-sinfonica-live-con-orchestra-2025-26-luglio-bergamo/
LOCATION:BERGAMO\, Lazzaretto\, Bergamo
CATEGORIES:Fiorella Mannoia Tour,Tour
ATTACH;FMTTYPE=image/jpeg:https://orchestrasaveriomercadante.it/wp-content/uploads/2025/06/Fiorella-Mannoia-2025-1.jpg
END:VEVENT
BEGIN:VEVENT
DTSTART;TZID=Europe/Rome:20250729T213000
DTEND;TZID=Europe/Rome:20250729T233000
DTSTAMP:20260415T122016
CREATED:20250717T170104Z
LAST-MODIFIED:20260123T220948Z
UID:16853-1753824600-1753831800@orchestrasaveriomercadante.it
SUMMARY:Fiorella Sinfonica – Live con Orchestra 2025 - 29 Luglio CERVIA
DESCRIPTION:Fiorella Mannoia - Tour 2025 \n\n\n\nFiorella Sinfonica – Live con Orchestra 2025 \nFiorella Mannoia fa tappa a Cervia  – Piazza Garibaldi con il tour Fiorella Sinfonica – Live con Orchestra\, accompagnata dall’’ Orchestra Sinfonica Saverio Mercadante diretta dal M° Rocco Debernardis. Un concerto intenso ed elegante\, dove i grandi successi dell’artista si intrecciano ai nuovi brani dell’album Disobbedire (2024)\, in un racconto musicale che emoziona e sorprende. \n\nACQUISTA IL TUO BIGLIETTO
URL:https://orchestrasaveriomercadante.it/evento/fiorella-sinfonica-live-con-orchestra-2025-29-luglio-cervia/
LOCATION:Piazza Garibaldi\, Cervia
CATEGORIES:Fiorella Mannoia Tour,Tour
ATTACH;FMTTYPE=image/jpeg:https://orchestrasaveriomercadante.it/wp-content/uploads/2025/06/Fiorella-Mannoia-2025-1.jpg
END:VEVENT
END:VCALENDAR